BEGIN:VCALENDAR
VERSION:2.0
PRODID:-//Gilbert Arizona Stake - ECPv6.15.20//NONSGML v1.0//EN
CALSCALE:GREGORIAN
METHOD:PUBLISH
X-ORIGINAL-URL:https://gilbertarizonastake.org
X-WR-CALDESC:Events for Gilbert Arizona Stake
REFRESH-INTERVAL;VALUE=DURATION:PT1H
X-Robots-Tag:noindex
X-PUBLISHED-TTL:PT1H
BEGIN:VTIMEZONE
TZID:America/Phoenix
BEGIN:STANDARD
TZOFFSETFROM:-0700
TZOFFSETTO:-0700
TZNAME:MST
DTSTART:20220101T000000
END:STANDARD
END:VTIMEZONE
BEGIN:VEVENT
DTSTART;TZID=America/Phoenix:20250913T073000
DTEND;TZID=America/Phoenix:20250913T150000
DTSTAMP:20260423T061025
CREATED:20250825T225556Z
LAST-MODIFIED:20250829T191349Z
UID:10003811-1757748600-1757775600@gilbertarizonastake.org
SUMMARY:2025 September Community 9/11 Day of Service - Día de Servicio
DESCRIPTION:All in our community are invited to join together for our annual 9/11 Interfaith Day of Service. There are so many ways to participate! \nStart your morning with your friends and neighbors at a delicious pancake breakfast at Evident Life Church from 7:30 – 9:00 am. \nYou can sign up at the breakfast for several different service projects: \nLocal Elementary\, Junior High\, and High School Beautification Projects\nAZ Blankets for Kids Quilting Bee (9 am- 3pm)\nMidwest Food Bank\nGirl’s Matter Period Hygiene Kits\nGilbert AZCEND Laundry Items donated for individuals in need\nHelen’s Hope Chest Teen Clothing\, New Socks\, New Underwear Drive\nClothes Cabin Shoe Drive\nSt. Anne’s Friends of the Needy Food Drive\nRetired Flag Collection \nFor more information or to sign up ahead of time please visit justserve.org/911DayofServiceGilbert \nDonations are needed too! All donations can be brought to Evident Life Church on Saturday morning\, Sept.13th or dropped off to your ward JustServe Specialist between now and the event. You can also donate through an Amazon Wishlist. Click here. \n \nTodos en nuestra comunidad están invitados a unirse para nuestro Día de Servicio Interreligioso anual del 11 de septiembre. ¡Hay tantas maneras de participar! \nComience su mañana con sus amigos y vecinos con un delicioso desayuno de panqueques en Evident Life Church de 7:30 a 9:00 am.  \nPuedes inscribirte en el desayuno para varios proyectos de servicio diferentes:  \nProyectos locales de embellecimiento de escuelas primarias\, secundarias y preparatorias Mantas AZ para niños Quilting Bee (9 am a 3 pm) Banco de Alimentos del Medio Oeste Kits de higiene menstrual Girl’s Matter Artículos de lavandería Gilbert AZCEND donados para personas necesitadas Colecta de ropa para adolescentes\, calcetines nuevos y ropa interior nueva de Helen’s Hope Chest Recogida de zapatos de cabina de ropa Colecta de alimentos de los Amigos de los Necesitados de St. Anne Colección de banderas retiradas  \nPara obtener más información o registrarse con anticipación\, visite justserve.org/911DayofServiceGilbert  \n¡También se necesitan donaciones! Todas las donaciones pueden llevarse a la Iglesia Evident Life el sábado 13 de septiembre por la mañana o entregarse al especialista JustServe de su barrio desde ahora hasta el evento. También puedes donar a través de una lista de deseos de Amazon. Haga clic aquí. \n \nShare this:\n				Share on Facebook (Opens in new window)\n				Facebook\n			\n				Share on X (Opens in new window)\n				X\n			\n				Share on LinkedIn (Opens in new window)\n				LinkedIn\n			\n				Share on WhatsApp (Opens in new window)\n				WhatsApp\n			\n				Email a link to a friend (Opens in new window)\n				Email\n			\n				Print (Opens in new window)\n				Print\n			\n\n	Related
URL:https://gilbertarizonastake.org/event/2025-september-community-9-11-day-of-service-dia-de-servicio/
LOCATION:Evident Life\, 415 N Gilbert Rd Ste 101\, Gilbert\, AZ\, 85234\, United States
CATEGORIES:activity,family,service
ATTACH;FMTTYPE=image/jpeg:https://gilbertarizonastake.org/wp-content/uploads/2025/07/9_11-info-2025-English-e1753376707922.jpg
END:VEVENT
BEGIN:VEVENT
DTSTART;TZID=America/Phoenix:20240914T070000
DTEND;TZID=America/Phoenix:20240914T160000
DTSTAMP:20260423T061025
CREATED:20240712T220926Z
LAST-MODIFIED:20240821T014347Z
UID:10002490-1726297200-1726329600@gilbertarizonastake.org
SUMMARY:9/11 Interfaith Day of Service- Dia de Servicio
DESCRIPTION:We invite the community to a 9/11 Day of Service and Remembrance. The event begins with free breakfast at Evident Life Church from 7-8am.  We then invite you to pick from a number of service opportunities.  We will have something for everyone\, all ages. Invite your neighbors and friends to join with us as we honor the lives and the service of those we lost on September 11th. \n  \n  \nInvitamos a la comunidad a un Día de Servicio y Recuerdo del 11 de septiembre. El evento comienza con un desayuno gratuito en la Iglesia Evident Life de 7 a 8 a. m. Luego lo invitamos a elegir entre una serie de oportunidades de servicio. Tendremos algo para todos\, todas las edades. Invite a sus vecinos y amigos a unirse a nosotros para honrar las vidas y el servicio de aquellos que perdimos el 11 de septiembre. \n  \n  \n \n  \nShare this:\n				Share on Facebook (Opens in new window)\n				Facebook\n			\n				Share on X (Opens in new window)\n				X\n			\n				Share on LinkedIn (Opens in new window)\n				LinkedIn\n			\n				Share on WhatsApp (Opens in new window)\n				WhatsApp\n			\n				Email a link to a friend (Opens in new window)\n				Email\n			\n				Print (Opens in new window)\n				Print\n			\n\n	Related
URL:https://gilbertarizonastake.org/event/9-11-community-day-of-service-and-remembrance/
LOCATION:Evident Life\, 415 N Gilbert Rd Ste 101\, Gilbert\, AZ\, 85234\, United States
CATEGORIES:family,service
ATTACH;FMTTYPE=image/png:https://gilbertarizonastake.org/wp-content/uploads/2024/07/Updated-save-the-date.png
END:VEVENT
BEGIN:VEVENT
DTSTART;TZID=America/Phoenix:20230909T070000
DTEND;TZID=America/Phoenix:20230909T110000
DTSTAMP:20260423T061025
CREATED:20230825T044345Z
LAST-MODIFIED:20230825T045006Z
UID:10001444-1694242800-1694257200@gilbertarizonastake.org
SUMMARY:Día Comunitario de Servicio y Recuerdo del 11 de Septiembre
DESCRIPTION:Invitamos a la comunidad a un Día de Servicio y Conmemoración del 11 de septiembre. El evento comienza con un desayuno gratis en Evident Life Church de 7 a 8 am. A continuación\, le invitamos a elegir entre una serie de oportunidades de servicio. Habrá limpieza de callejones en el centro de Gilbert (traiga guantes de trabajo\, rastrillos\, palas\, mucha agua)\, preparación de kits de comodidad para personas con cáncer o un regalo divertido para aquellos que reciben Meals on Wheels. Si no puede asistir\, estaremos recolectando bocadillos para los necesitados y como zapatos usados ​​para niños en Evident Life. Tendremos algo para todos\, todas las edades\, por dentro y por fuera. Invita a tus vecinos y amigos. Honramos las vidas y el servicio de aquellos que perdimos el 11 de septiembre. \nFolleto del 11 de Septiembre \nShare this:\n				Share on Facebook (Opens in new window)\n				Facebook\n			\n				Share on X (Opens in new window)\n				X\n			\n				Share on LinkedIn (Opens in new window)\n				LinkedIn\n			\n				Share on WhatsApp (Opens in new window)\n				WhatsApp\n			\n				Email a link to a friend (Opens in new window)\n				Email\n			\n				Print (Opens in new window)\n				Print\n			\n\n	Related
URL:https://gilbertarizonastake.org/event/dia-comunitario-de-servicio-y-recuerdo-del-11-de-septiembre/
LOCATION:Evident Life\, 415 N Gilbert Rd Ste 101\, Gilbert\, AZ\, 85234\, United States
CATEGORIES:service
ATTACH;FMTTYPE=image/jpeg:https://gilbertarizonastake.org/wp-content/uploads/2023/08/Spanish-Promoting-911-Day-of-Service.jpeg
END:VEVENT
BEGIN:VEVENT
DTSTART;TZID=America/Phoenix:20230909T070000
DTEND;TZID=America/Phoenix:20230909T110000
DTSTAMP:20260423T061025
CREATED:20230806T211756Z
LAST-MODIFIED:20230825T045803Z
UID:10001356-1694242800-1694257200@gilbertarizonastake.org
SUMMARY:9/11 Community Day of Service and Remembrance
DESCRIPTION:We invite the community to a 9/11 Day of Service and Remembrance. The event begins with free breakfast at Evident Life Church from 7-8am.  We then invite you to pick from a number of service opportunities.  There will be alley clean up in downtown Gilbert (bring work gloves\, rakes\, shovel\, lots of water)\, putting together comfort kits to those with cancer\, or a fun gift for those that receive Meals on Wheels.  If you aren’t able to attend we will be collecting snacks for those in need and like used kids shoes at Evident Life.  We will have something for everyone\, all ages\, inside and out.  Invite your neighbors and friends.  We honor the lives and the service of those we lost on September 11th. \nFlyer for 9:11 Service Event \nShare this:\n				Share on Facebook (Opens in new window)\n				Facebook\n			\n				Share on X (Opens in new window)\n				X\n			\n				Share on LinkedIn (Opens in new window)\n				LinkedIn\n			\n				Share on WhatsApp (Opens in new window)\n				WhatsApp\n			\n				Email a link to a friend (Opens in new window)\n				Email\n			\n				Print (Opens in new window)\n				Print\n			\n\n	Related
URL:https://gilbertarizonastake.org/event/9-11-community-day-of-service-and-rembrance/
LOCATION:Evident Life\, 415 N Gilbert Rd Ste 101\, Gilbert\, AZ\, 85234\, United States
CATEGORIES:service
ATTACH;FMTTYPE=image/jpeg:https://gilbertarizonastake.org/wp-content/uploads/2023/08/thumbnail-c195f0b2609d65d28faa3895002ff0e1.jpeg
END:VEVENT
END:VCALENDAR