BEGIN:VCALENDAR
VERSION:2.0
PRODID:-//Gilbert Arizona Stake - ECPv6.15.20//NONSGML v1.0//EN
CALSCALE:GREGORIAN
METHOD:PUBLISH
X-ORIGINAL-URL:https://gilbertarizonastake.org
X-WR-CALDESC:Events for Gilbert Arizona Stake
REFRESH-INTERVAL;VALUE=DURATION:PT1H
X-Robots-Tag:noindex
X-PUBLISHED-TTL:PT1H
BEGIN:VTIMEZONE
TZID:America/Phoenix
BEGIN:STANDARD
TZOFFSETFROM:-0700
TZOFFSETTO:-0700
TZNAME:MST
DTSTART:20250101T000000
END:STANDARD
END:VTIMEZONE
BEGIN:VEVENT
DTSTART;VALUE=DATE:20260524
DTEND;VALUE=DATE:20260525
DTSTAMP:20260424T125553
CREATED:20260421T150344Z
LAST-MODIFIED:20260421T150344Z
UID:10004935-1779580800-1779667199@gilbertarizonastake.org
SUMMARY:2026 Friend to Friend Broadcast- Emisión de Amigo a Amigo
DESCRIPTION:Friend to Friend Broadcast \nJoin children worldwide for a broadcast event about Prophets guiding us to Heavenly Father and Jesus starting May 24\, 2026. Hear a special message from Elder Gong and his wife\, Sister Susan Gong and the Primary General Presidency. \n– \nEmisión de Amigo a Amigo \nAcompañen a niños de todo el mundo en una transmisión especial sobre los profetas que nos guían hacia el Padre Celestial y Jesús\, a partir del 24 de mayo de 2026. Escuchen un mensaje especial del élder Gong\, su esposa\, la hermana Susan Gong\, y la Presidencia General de la Primaria. \nFriend to Friend Broadcast Link \nShare this:\n				Share on Facebook (Opens in new window)\n				Facebook\n			\n				Share on X (Opens in new window)\n				X\n			\n				Share on LinkedIn (Opens in new window)\n				LinkedIn\n			\n				Share on WhatsApp (Opens in new window)\n				WhatsApp\n			\n				Email a link to a friend (Opens in new window)\n				Email\n			\n				Print (Opens in new window)\n				Print
URL:https://gilbertarizonastake.org/event/2026-friend-to-friend-broadcast-emision-de-amigo-a-amigo/
LOCATION:AZ
CATEGORIES:children,family
ATTACH;FMTTYPE=image/png:https://gilbertarizonastake.org/wp-content/uploads/2026/04/Friend-to-Friend-May-2026-1-e1776783788811.png
END:VEVENT
BEGIN:VEVENT
DTSTART;TZID=America/Phoenix:20260526T193000
DTEND;TZID=America/Phoenix:20260526T203000
DTSTAMP:20260424T125553
CREATED:20241212T005524Z
LAST-MODIFIED:20251026T210133Z
UID:10003869-1779823800-1779827400@gilbertarizonastake.org
SUMMARY:Campo Verde HS Seminary - Spouse & Family Addiction Support - Pornography Addiction - Women Only (Tues PM)
DESCRIPTION:If you have a spouse/family struggling with pornography addiction\, you may feel as though no one else is going through a struggle like yours. However\, many people have loved ones struggling with pornography use. Other group participants will relate to your experience and will help you feel connected\, understood\, and accepted. You can discover support and hope by attending a free community recovery support group meeting. Recovery support groups are sponsored by The Church of Jesus Christ of Latter-day Saints. \nWomen Only –  Held weekly Tuesday 7:30pm-8:30pm \nTo find other groups click here: Find a group  \nShare this:\n				Share on Facebook (Opens in new window)\n				Facebook\n			\n				Share on X (Opens in new window)\n				X\n			\n				Share on LinkedIn (Opens in new window)\n				LinkedIn\n			\n				Share on WhatsApp (Opens in new window)\n				WhatsApp\n			\n				Email a link to a friend (Opens in new window)\n				Email\n			\n				Print (Opens in new window)\n				Print
URL:https://gilbertarizonastake.org/event/campo-verde-hs-seminary-spouse-family-addiction-support-pornography-addiction-women-only-2/2026-05-26/
LOCATION:Campo Verde High School Seminay\, 3877 South Quartz\, Gilbert\, AZ\, 85297\, United States
CATEGORIES:addiction,weekly
ATTACH;FMTTYPE=image/jpeg:https://gilbertarizonastake.org/wp-content/uploads/2023/03/Header-Support-Groups-The-Hills-8c669f8bd85789dfb3d9212cbe7b7316.jpg
END:VEVENT
BEGIN:VEVENT
DTSTART;TZID=America/Phoenix:20260528T193000
DTEND;TZID=America/Phoenix:20260528T203000
DTSTAMP:20260424T125553
CREATED:20251026T210926Z
LAST-MODIFIED:20251026T210927Z
UID:10004039-1779996600-1780000200@gilbertarizonastake.org
SUMMARY:Campo Verde HS Seminary - Spouse & Family Addiction Support - Pornography Addiction - Men Only (Thur PM)
DESCRIPTION:If you have a spouse/family struggling with pornography addiction\, you may feel as though no one else is going through a struggle like yours. However\, many people have loved ones struggling with pornography use. Other group participants will relate to your experience and will help you feel connected\, understood\, and accepted. You can discover support and hope by attending a free community recovery support group meeting. Recovery support groups are sponsored by The Church of Jesus Christ of Latter-day Saints. \nMen Only –  Held weekly Thursday 7:30pm-8:30pm \nTo find other groups click here: Find a group  \nShare this:\n				Share on Facebook (Opens in new window)\n				Facebook\n			\n				Share on X (Opens in new window)\n				X\n			\n				Share on LinkedIn (Opens in new window)\n				LinkedIn\n			\n				Share on WhatsApp (Opens in new window)\n				WhatsApp\n			\n				Email a link to a friend (Opens in new window)\n				Email\n			\n				Print (Opens in new window)\n				Print
URL:https://gilbertarizonastake.org/event/campo-verde-hs-seminary-spouse-family-addiction-support-pornography-addiction-men-only-thur-pm-2/2026-05-28/
LOCATION:Campo Verde High School Seminay\, 3877 South Quartz\, Gilbert\, AZ\, 85297\, United States
CATEGORIES:addiction,weekly
ATTACH;FMTTYPE=image/jpeg:https://gilbertarizonastake.org/wp-content/uploads/2023/03/Header-Support-Groups-The-Hills-8c669f8bd85789dfb3d9212cbe7b7316.jpg
END:VEVENT
END:VCALENDAR