BEGIN:VCALENDAR
VERSION:2.0
PRODID:-//Gilbert Arizona Stake - ECPv6.15.20//NONSGML v1.0//EN
CALSCALE:GREGORIAN
METHOD:PUBLISH
X-WR-CALNAME:Gilbert Arizona Stake
X-ORIGINAL-URL:https://gilbertarizonastake.org
X-WR-CALDESC:Events for Gilbert Arizona Stake
REFRESH-INTERVAL;VALUE=DURATION:PT1H
X-Robots-Tag:noindex
X-PUBLISHED-TTL:PT1H
BEGIN:VTIMEZONE
TZID:America/Phoenix
BEGIN:STANDARD
TZOFFSETFROM:-0700
TZOFFSETTO:-0700
TZNAME:MST
DTSTART:20250101T000000
END:STANDARD
END:VTIMEZONE
BEGIN:VEVENT
DTSTART;TZID=America/Phoenix:20260517T100000
DTEND;TZID=America/Phoenix:20260517T110000
DTSTAMP:20260421T151725
CREATED:20260421T034945Z
LAST-MODIFIED:20260421T034945Z
UID:10004931-1779012000-1779015600@gilbertarizonastake.org
SUMMARY:2026 Stake Temple Recommend Interviews: May 17 -  Entrevistas recomendadas para el Templo: 17 de Mayo
DESCRIPTION:Stake Temple Recommend Interviews on Sunday\, May 17th from 10-11 am and 12-1 pm.  Meet and register in the lobby of the stake office (northwest side entrance of the stake center). \n– \nLas entrevistas de Stake Temple Recommend son el domingo 17 de mayo de 10 a. m. a 11 a. m. a 12 p. m. a 13 p. m. Reúnase e inscríbase en el vestíbulo de la oficina de estaca (entrada del lado noroeste del edificio de estaca). \n  \nShare this:\n				Share on Facebook (Opens in new window)\n				Facebook\n			\n				Share on X (Opens in new window)\n				X\n			\n				Share on LinkedIn (Opens in new window)\n				LinkedIn\n			\n				Share on WhatsApp (Opens in new window)\n				WhatsApp\n			\n				Email a link to a friend (Opens in new window)\n				Email\n			\n				Print (Opens in new window)\n				Print
URL:https://gilbertarizonastake.org/event/2026-stake-temple-recommend-interviews-may-17-entrevistas-recomendadas-para-el-templo-17-de-mayo/2026-05-17/1/
LOCATION:Gilbert Arizona Stake\, 777 East Elliot Road\, Gilbert\, AZ\, 85234\, United States
CATEGORIES:temple
ATTACH;FMTTYPE=image/png:https://gilbertarizonastake.org/wp-content/uploads/2026/04/May-17-Gilbert-Stake-Temple-Rec--e1776732125617.png
END:VEVENT
BEGIN:VEVENT
DTSTART;TZID=America/Phoenix:20260517T120000
DTEND;TZID=America/Phoenix:20260517T130000
DTSTAMP:20260421T151725
CREATED:20260421T034945Z
LAST-MODIFIED:20260421T034945Z
UID:10004932-1779019200-1779022800@gilbertarizonastake.org
SUMMARY:2026 Stake Temple Recommend Interviews: May 17 -  Entrevistas recomendadas para el Templo: 17 de Mayo
DESCRIPTION:Stake Temple Recommend Interviews on Sunday\, May 17th from 10-11 am and 12-1 pm.  Meet and register in the lobby of the stake office (northwest side entrance of the stake center). \n– \nLas entrevistas de Stake Temple Recommend son el domingo 17 de mayo de 10 a. m. a 11 a. m. a 12 p. m. a 13 p. m. Reúnase e inscríbase en el vestíbulo de la oficina de estaca (entrada del lado noroeste del edificio de estaca). \n  \nShare this:\n				Share on Facebook (Opens in new window)\n				Facebook\n			\n				Share on X (Opens in new window)\n				X\n			\n				Share on LinkedIn (Opens in new window)\n				LinkedIn\n			\n				Share on WhatsApp (Opens in new window)\n				WhatsApp\n			\n				Email a link to a friend (Opens in new window)\n				Email\n			\n				Print (Opens in new window)\n				Print
URL:https://gilbertarizonastake.org/event/2026-stake-temple-recommend-interviews-may-17-entrevistas-recomendadas-para-el-templo-17-de-mayo/2026-05-17/2/
LOCATION:Gilbert Arizona Stake\, 777 East Elliot Road\, Gilbert\, AZ\, 85234\, United States
CATEGORIES:temple
ATTACH;FMTTYPE=image/png:https://gilbertarizonastake.org/wp-content/uploads/2026/04/May-17-Gilbert-Stake-Temple-Rec--e1776732125617.png
END:VEVENT
BEGIN:VEVENT
DTSTART;TZID=America/Phoenix:20260517T160000
DTEND;TZID=America/Phoenix:20260517T171500
DTSTAMP:20260421T151725
CREATED:20260421T033649Z
LAST-MODIFIED:20260421T041612Z
UID:10004929-1779033600-1779038100@gilbertarizonastake.org
SUMMARY:2026 Gilbert Stake Choir - Coro de la Estaca Gilbert
DESCRIPTION:Gilbert Stake Choir \nJoin the Gilbert Stake Choir as we prepare to sing at Stake Conference.  Practices will be held from 4:00-5:15 pm at the Stake Center chapel on May 3\, May 17\, and May 31.  Adults and youth 12 years old and up are encouraged to participate. \n– \nCoro de la Estaca Gilbert  \nÚnase al Coro de la Estaca Gilbert mientras nos preparamos para cantar en la Conferencia de Estaca. Los ensayos se llevarán a cabo de 4:00 a 5:15 p. m. en la capilla del Centro de Estaca los días 3\, 17 y 31 de mayo. Se invita a participar a adultos y jóvenes de 12 años en adelante. \nShare this:\n				Share on Facebook (Opens in new window)\n				Facebook\n			\n				Share on X (Opens in new window)\n				X\n			\n				Share on LinkedIn (Opens in new window)\n				LinkedIn\n			\n				Share on WhatsApp (Opens in new window)\n				WhatsApp\n			\n				Email a link to a friend (Opens in new window)\n				Email\n			\n				Print (Opens in new window)\n				Print
URL:https://gilbertarizonastake.org/event/gilbert-stake-choir-coro-de-la-estaca-gilbert/2026-05-17/
LOCATION:Gilbert Arizona Stake\, 777 East Elliot Road\, Gilbert\, AZ\, 85234\, United States
CATEGORIES:family,youth
ATTACH;FMTTYPE=image/jpeg:https://gilbertarizonastake.org/wp-content/uploads/2026/04/stake-choir-practice-e1776732231827.jpg
END:VEVENT
BEGIN:VEVENT
DTSTART;TZID=America/Phoenix:20260517T180000
DTEND;TZID=America/Phoenix:20260517T200000
DTSTAMP:20260421T151725
CREATED:20260421T040908Z
LAST-MODIFIED:20260421T040908Z
UID:10004936-1779040800-1779048000@gilbertarizonastake.org
SUMMARY:2026 Gilbert Stake Seminary Graduation - Graduación del Seminario de la Estaca Gilbert
DESCRIPTION:Gilbert Stake Seminary Graduation \nAll current and upcoming Seminary students and parents are invited to attend Seminary Graduation on May 17th at 6:00 p.m. at the Gilbert Stake center. Refreshments will be served. \n– \nGraduación del Seminario de la Estaca Gilbert \nTodos los estudiantes actuales y futuros del Seminario\, así como sus padres\, están invitados a la ceremonia de graduación el 17 de mayo a las 18:00 horas en el centro de la Estaca Gilbert. Se ofrecerá un refrigerio. \nShare this:\n				Share on Facebook (Opens in new window)\n				Facebook\n			\n				Share on X (Opens in new window)\n				X\n			\n				Share on LinkedIn (Opens in new window)\n				LinkedIn\n			\n				Share on WhatsApp (Opens in new window)\n				WhatsApp\n			\n				Email a link to a friend (Opens in new window)\n				Email\n			\n				Print (Opens in new window)\n				Print
URL:https://gilbertarizonastake.org/event/2026-gilbert-stake-seminary-graduation-graduacion-del-seminario-de-la-estaca-gilbert/
LOCATION:Gilbert Arizona Stake\, 777 East Elliot Road\, Gilbert\, AZ\, 85234\, United States
CATEGORIES:family,youth
ATTACH;FMTTYPE=image/png:https://gilbertarizonastake.org/wp-content/uploads/2026/04/Blue-and-Gold-Graduation-Party-Event-Invitation-Instagram-Post-e1776732103618.png
END:VEVENT
BEGIN:VEVENT
DTSTART;TZID=America/Phoenix:20260519T193000
DTEND;TZID=America/Phoenix:20260519T203000
DTSTAMP:20260421T151725
CREATED:20241212T005524Z
LAST-MODIFIED:20251026T210133Z
UID:10003868-1779219000-1779222600@gilbertarizonastake.org
SUMMARY:Campo Verde HS Seminary - Spouse & Family Addiction Support - Pornography Addiction - Women Only (Tues PM)
DESCRIPTION:If you have a spouse/family struggling with pornography addiction\, you may feel as though no one else is going through a struggle like yours. However\, many people have loved ones struggling with pornography use. Other group participants will relate to your experience and will help you feel connected\, understood\, and accepted. You can discover support and hope by attending a free community recovery support group meeting. Recovery support groups are sponsored by The Church of Jesus Christ of Latter-day Saints. \nWomen Only –  Held weekly Tuesday 7:30pm-8:30pm \nTo find other groups click here: Find a group  \nShare this:\n				Share on Facebook (Opens in new window)\n				Facebook\n			\n				Share on X (Opens in new window)\n				X\n			\n				Share on LinkedIn (Opens in new window)\n				LinkedIn\n			\n				Share on WhatsApp (Opens in new window)\n				WhatsApp\n			\n				Email a link to a friend (Opens in new window)\n				Email\n			\n				Print (Opens in new window)\n				Print
URL:https://gilbertarizonastake.org/event/campo-verde-hs-seminary-spouse-family-addiction-support-pornography-addiction-women-only-2/2026-05-19/
LOCATION:Campo Verde High School Seminay\, 3877 South Quartz\, Gilbert\, AZ\, 85297\, United States
CATEGORIES:addiction,weekly
ATTACH;FMTTYPE=image/jpeg:https://gilbertarizonastake.org/wp-content/uploads/2023/03/Header-Support-Groups-The-Hills-8c669f8bd85789dfb3d9212cbe7b7316.jpg
END:VEVENT
BEGIN:VEVENT
DTSTART;TZID=America/Phoenix:20260521T193000
DTEND;TZID=America/Phoenix:20260521T203000
DTSTAMP:20260421T151725
CREATED:20251026T210926Z
LAST-MODIFIED:20251026T210927Z
UID:10004038-1779391800-1779395400@gilbertarizonastake.org
SUMMARY:Campo Verde HS Seminary - Spouse & Family Addiction Support - Pornography Addiction - Men Only (Thur PM)
DESCRIPTION:If you have a spouse/family struggling with pornography addiction\, you may feel as though no one else is going through a struggle like yours. However\, many people have loved ones struggling with pornography use. Other group participants will relate to your experience and will help you feel connected\, understood\, and accepted. You can discover support and hope by attending a free community recovery support group meeting. Recovery support groups are sponsored by The Church of Jesus Christ of Latter-day Saints. \nMen Only –  Held weekly Thursday 7:30pm-8:30pm \nTo find other groups click here: Find a group  \nShare this:\n				Share on Facebook (Opens in new window)\n				Facebook\n			\n				Share on X (Opens in new window)\n				X\n			\n				Share on LinkedIn (Opens in new window)\n				LinkedIn\n			\n				Share on WhatsApp (Opens in new window)\n				WhatsApp\n			\n				Email a link to a friend (Opens in new window)\n				Email\n			\n				Print (Opens in new window)\n				Print
URL:https://gilbertarizonastake.org/event/campo-verde-hs-seminary-spouse-family-addiction-support-pornography-addiction-men-only-thur-pm-2/2026-05-21/
LOCATION:Campo Verde High School Seminay\, 3877 South Quartz\, Gilbert\, AZ\, 85297\, United States
CATEGORIES:addiction,weekly
ATTACH;FMTTYPE=image/jpeg:https://gilbertarizonastake.org/wp-content/uploads/2023/03/Header-Support-Groups-The-Hills-8c669f8bd85789dfb3d9212cbe7b7316.jpg
END:VEVENT
END:VCALENDAR