BEGIN:VCALENDAR
VERSION:2.0
PRODID:-//Gilbert Arizona Stake - ECPv6.15.20//NONSGML v1.0//EN
CALSCALE:GREGORIAN
METHOD:PUBLISH
X-ORIGINAL-URL:https://gilbertarizonastake.org
X-WR-CALDESC:Events for Gilbert Arizona Stake
REFRESH-INTERVAL;VALUE=DURATION:PT1H
X-Robots-Tag:noindex
X-PUBLISHED-TTL:PT1H
BEGIN:VTIMEZONE
TZID:America/Phoenix
BEGIN:STANDARD
TZOFFSETFROM:-0700
TZOFFSETTO:-0700
TZNAME:MST
DTSTART:20250101T000000
END:STANDARD
END:VTIMEZONE
BEGIN:VEVENT
DTSTART;TZID=America/Phoenix:20260204T180000
DTEND;TZID=America/Phoenix:20260204T190000
DTSTAMP:20260423T232415
CREATED:20260130T211223Z
LAST-MODIFIED:20260130T211223Z
UID:10004148-1770228000-1770231600@gilbertarizonastake.org
SUMMARY:2026 Seminary Devotional for 8th Graders - Devocional del seminario para alumnos de octavo grado
DESCRIPTION:For 8th graders\, parents\, leaders\, and all interested in Seminary. At the Gilbert High School Seminary Building 1201 Elliot Road. Representatives from Gilbert\, Highland\, and ALA High Schools will be there. There will be Refreshments! \n— \nPara alumnos de octavo grado\, padres\, líderes y todos los interesados ​​en el seminario. En el edificio del seminario de la escuela secundaria Gilbert High School\, ubicado en 1201 Elliot Road. Habrá representantes de las escuelas secundarias Gilbert\, Highland y ALA. ¡Se servirán refrigerios! \n  \nShare this:\n				Share on Facebook (Opens in new window)\n				Facebook\n			\n				Share on X (Opens in new window)\n				X\n			\n				Share on LinkedIn (Opens in new window)\n				LinkedIn\n			\n				Share on WhatsApp (Opens in new window)\n				WhatsApp\n			\n				Email a link to a friend (Opens in new window)\n				Email\n			\n				Print (Opens in new window)\n				Print
URL:https://gilbertarizonastake.org/event/2026-seminary-devotional-for-8th-graders-devocional-del-seminario-para-alumnos-de-octavo-grado/
LOCATION:Gilbert High School LDS Seminary\, 1201 E Elliot Rd\, Gilbert\, AZ\, 85234\, United States
CATEGORIES:activity,youth
ATTACH;FMTTYPE=image/jpeg:https://gilbertarizonastake.org/wp-content/uploads/2026/01/D258CE50-6789-4C8C-BF0E-F90D1C3CA154-e1769806994283.jpeg
END:VEVENT
BEGIN:VEVENT
DTSTART;TZID=America/Phoenix:20260206T170000
DTEND;TZID=America/Phoenix:20260206T213000
DTSTAMP:20260423T232415
CREATED:20251231T153447Z
LAST-MODIFIED:20260114T233331Z
UID:10004125-1770397200-1770413400@gilbertarizonastake.org
SUMMARY:2026 Gilbert Stake Youth Conference
DESCRIPTION:WALK WITH ME \nGilbert Stake Youth Conference for Youth 14-18 \nPlease come\, there will be soft serve buffet\, Canes\, lots of other delicious food\, games\, a mini night hike and most importantly the Holy Spirit. Also comedy guest\, JESTERZ! \nat Red Mountain Institute \nShare this:\n				Share on Facebook (Opens in new window)\n				Facebook\n			\n				Share on X (Opens in new window)\n				X\n			\n				Share on LinkedIn (Opens in new window)\n				LinkedIn\n			\n				Share on WhatsApp (Opens in new window)\n				WhatsApp\n			\n				Email a link to a friend (Opens in new window)\n				Email\n			\n				Print (Opens in new window)\n				Print
URL:https://gilbertarizonastake.org/event/2026-gilbert-stake-youth-conference2/
LOCATION:Red Mountain Institute\, 7126 E McKellips Rd\, Mesa\, 85207\, United States
CATEGORIES:activity,youth
ATTACH;FMTTYPE=image/jpeg:https://gilbertarizonastake.org/wp-content/uploads/2026/01/Walk-with-Me-Real-Estate-Flyer-e1768322314624.jpeg
END:VEVENT
BEGIN:VEVENT
DTSTART;TZID=America/Phoenix:20260207T203000
DTEND;TZID=America/Phoenix:20260207T203000
DTSTAMP:20260423T232415
CREATED:20260114T233626Z
LAST-MODIFIED:20260114T233626Z
UID:10004130-1770496200-1770496200@gilbertarizonastake.org
SUMMARY:2026 Gilbert Stake Youth Conference - day 2
DESCRIPTION:WALK WITH ME \nGilbert Stake Youth Conference for Youth 14-18 \nPlease come\, there will be soft serve buffet\, Canes\, lots of other delicious food\, games\, a mini night hike and most importantly the Holy Spirit. Also comedy guest\, JESTERZ! \nat Red Mountain Institute \nShare this:\n				Share on Facebook (Opens in new window)\n				Facebook\n			\n				Share on X (Opens in new window)\n				X\n			\n				Share on LinkedIn (Opens in new window)\n				LinkedIn\n			\n				Share on WhatsApp (Opens in new window)\n				WhatsApp\n			\n				Email a link to a friend (Opens in new window)\n				Email\n			\n				Print (Opens in new window)\n				Print
URL:https://gilbertarizonastake.org/event/2026-gilbert-stake-youth-conference-day2/
LOCATION:Red Mountain Institute\, 7126 E McKellips Rd\, Mesa\, 85207\, United States
CATEGORIES:activity,youth
ATTACH;FMTTYPE=image/jpeg:https://gilbertarizonastake.org/wp-content/uploads/2026/01/Walk-with-Me-Real-Estate-Flyer-e1768322314624.jpeg
END:VEVENT
END:VCALENDAR