BEGIN:VCALENDAR
VERSION:2.0
PRODID:-//Gilbert Arizona Stake - ECPv6.15.20//NONSGML v1.0//EN
CALSCALE:GREGORIAN
METHOD:PUBLISH
X-ORIGINAL-URL:https://gilbertarizonastake.org
X-WR-CALDESC:Events for Gilbert Arizona Stake
REFRESH-INTERVAL;VALUE=DURATION:PT1H
X-Robots-Tag:noindex
X-PUBLISHED-TTL:PT1H
BEGIN:VTIMEZONE
TZID:America/Phoenix
BEGIN:STANDARD
TZOFFSETFROM:-0700
TZOFFSETTO:-0700
TZNAME:MST
DTSTART:20240101T000000
END:STANDARD
END:VTIMEZONE
BEGIN:VEVENT
DTSTART;TZID=America/Phoenix:20251112T190000
DTEND;TZID=America/Phoenix:20251112T203000
DTSTAMP:20260421T163241
CREATED:20251019T213130Z
LAST-MODIFIED:20251019T213130Z
UID:10003845-1762974000-1762979400@gilbertarizonastake.org
SUMMARY:2025 Multi-Stake 16-18 Activity- Actividad Multiestacas
DESCRIPTION:Youth turning 16 and up are invited to the multi-stake activity at Highland East Stake Center Ball Fields 3580 E. Houston. 7:00 PM on Wednesday\, November 12th. Bring your friends! \nLos jóvenes de 16 años en adelante están invitados al actividad de múltiples estacas en Highland East Stake Center Ball Fields 3580 E. Houston. 7:00 PM del miércoles 12 de noviembre. ¡Trae a tus amigos! \n  \nShare this:\n				Share on Facebook (Opens in new window)\n				Facebook\n			\n				Share on X (Opens in new window)\n				X\n			\n				Share on LinkedIn (Opens in new window)\n				LinkedIn\n			\n				Share on WhatsApp (Opens in new window)\n				WhatsApp\n			\n				Email a link to a friend (Opens in new window)\n				Email\n			\n				Print (Opens in new window)\n				Print
URL:https://gilbertarizonastake.org/event/2025-multi-stake-16-18-activity-actividad-multiestacas/
LOCATION:Gilbert Arizona Highland East Stake\, 3580 East Houston Rd\, Gilbert\, AZ\, 85234\, United States
CATEGORIES:activity,youth
ATTACH;FMTTYPE=image/jpeg:https://gilbertarizonastake.org/wp-content/uploads/2025/10/unnamed-1-e1760909468466.jpg
END:VEVENT
END:VCALENDAR