BEGIN:VCALENDAR
VERSION:2.0
PRODID:-//Gilbert Arizona Stake - ECPv6.15.20//NONSGML v1.0//EN
CALSCALE:GREGORIAN
METHOD:PUBLISH
X-ORIGINAL-URL:https://gilbertarizonastake.org
X-WR-CALDESC:Events for Gilbert Arizona Stake
REFRESH-INTERVAL;VALUE=DURATION:PT1H
X-Robots-Tag:noindex
X-PUBLISHED-TTL:PT1H
BEGIN:VTIMEZONE
TZID:America/Phoenix
BEGIN:STANDARD
TZOFFSETFROM:-0700
TZOFFSETTO:-0700
TZNAME:MST
DTSTART:20240101T000000
END:STANDARD
END:VTIMEZONE
BEGIN:VEVENT
DTSTART;TZID=America/Phoenix:20251022T190000
DTEND;TZID=America/Phoenix:20251022T203000
DTSTAMP:20260421T163214
CREATED:20250929T184036Z
LAST-MODIFIED:20250929T184036Z
UID:10003827-1761159600-1761165000@gilbertarizonastake.org
SUMMARY:2025 Youth Activity Night
DESCRIPTION:For Youth turning 14 & 15 this year! Join us for a Halloween/Fall-themed night full of competitive group games and Minute-to-Win-It challenges! \nFun * Friends * Prizes * Treats * Laughter \nCome ready to play and enjoy an awesome night together! \nShare this:\n				Share on Facebook (Opens in new window)\n				Facebook\n			\n				Share on X (Opens in new window)\n				X\n			\n				Share on LinkedIn (Opens in new window)\n				LinkedIn\n			\n				Share on WhatsApp (Opens in new window)\n				WhatsApp\n			\n				Email a link to a friend (Opens in new window)\n				Email\n			\n				Print (Opens in new window)\n				Print
URL:https://gilbertarizonastake.org/event/2025-youth-activity-night/
LOCATION:Gilbert Arizona Stake\, 777 East Elliot Road\, Gilbert\, AZ\, 85234\, United States
CATEGORIES:activity,youth
ATTACH;FMTTYPE=image/png:https://gilbertarizonastake.org/wp-content/uploads/2025/09/IMG_4801-e1759170100771.png
END:VEVENT
END:VCALENDAR