BEGIN:VCALENDAR
VERSION:2.0
PRODID:-//Gilbert Arizona Stake - ECPv6.15.20//NONSGML v1.0//EN
CALSCALE:GREGORIAN
METHOD:PUBLISH
X-WR-CALNAME:Gilbert Arizona Stake
X-ORIGINAL-URL:https://gilbertarizonastake.org
X-WR-CALDESC:Events for Gilbert Arizona Stake
REFRESH-INTERVAL;VALUE=DURATION:PT1H
X-Robots-Tag:noindex
X-PUBLISHED-TTL:PT1H
BEGIN:VTIMEZONE
TZID:America/Phoenix
BEGIN:STANDARD
TZOFFSETFROM:-0700
TZOFFSETTO:-0700
TZNAME:MST
DTSTART:20240101T000000
END:STANDARD
END:VTIMEZONE
BEGIN:VEVENT
DTSTART;TZID=America/Phoenix:20250824T150000
DTEND;TZID=America/Phoenix:20250824T163000
DTSTAMP:20260423T220147
CREATED:20250725T060014Z
LAST-MODIFIED:20250725T060014Z
UID:10003787-1756047600-1756053000@gilbertarizonastake.org
SUMMARY:Emotional Resilience Class for Teens 16+
DESCRIPTION:Share this:\n				Share on Facebook (Opens in new window)\n				Facebook\n			\n				Share on X (Opens in new window)\n				X\n			\n				Share on LinkedIn (Opens in new window)\n				LinkedIn\n			\n				Share on WhatsApp (Opens in new window)\n				WhatsApp\n			\n				Email a link to a friend (Opens in new window)\n				Email\n			\n				Print (Opens in new window)\n				Print
URL:https://gilbertarizonastake.org/event/emotional-resilience-class-for-teens-16-2/2025-08-24/
LOCATION:Gilbert Arizona Stake\, 777 East Elliot Road\, Gilbert\, AZ\, 85234\, United States
CATEGORIES:activity,weekly,youth
ATTACH;FMTTYPE=image/png:https://gilbertarizonastake.org/wp-content/uploads/2025/07/1000017042-e1753422958933.png
END:VEVENT
BEGIN:VEVENT
DTSTART;TZID=America/Phoenix:20250824T160000
DTEND;TZID=America/Phoenix:20250824T173000
DTSTAMP:20260423T220147
CREATED:20250724T165642Z
LAST-MODIFIED:20250819T201048Z
UID:10003781-1756051200-1756056600@gilbertarizonastake.org
SUMMARY:August 2025 Stake Youth Fireside- Charla fogonera de Stake para jóvenes
DESCRIPTION:Share this:\n				Share on Facebook (Opens in new window)\n				Facebook\n			\n				Share on X (Opens in new window)\n				X\n			\n				Share on LinkedIn (Opens in new window)\n				LinkedIn\n			\n				Share on WhatsApp (Opens in new window)\n				WhatsApp\n			\n				Email a link to a friend (Opens in new window)\n				Email\n			\n				Print (Opens in new window)\n				Print
URL:https://gilbertarizonastake.org/event/august-2025-stake-youth-fireside-charla-fogonera-de-stake-para-jovenes/
LOCATION:Gilbert Arizona Stake\, 777 East Elliot Road\, Gilbert\, AZ\, 85234\, United States
CATEGORIES:activity,youth
ATTACH;FMTTYPE=image/png:https://gilbertarizonastake.org/wp-content/uploads/2025/07/youth-fireside-August-updated-e1755634218103.png
END:VEVENT
END:VCALENDAR