BEGIN:VCALENDAR
VERSION:2.0
PRODID:-//Gilbert Arizona Stake - ECPv6.15.20//NONSGML v1.0//EN
CALSCALE:GREGORIAN
METHOD:PUBLISH
X-WR-CALNAME:Gilbert Arizona Stake
X-ORIGINAL-URL:https://gilbertarizonastake.org
X-WR-CALDESC:Events for Gilbert Arizona Stake
REFRESH-INTERVAL;VALUE=DURATION:PT1H
X-Robots-Tag:noindex
X-PUBLISHED-TTL:PT1H
BEGIN:VTIMEZONE
TZID:America/Phoenix
BEGIN:STANDARD
TZOFFSETFROM:-0700
TZOFFSETTO:-0700
TZNAME:MST
DTSTART:20240101T000000
END:STANDARD
END:VTIMEZONE
BEGIN:VEVENT
DTSTART;TZID=America/Phoenix:20251231T210000
DTEND;TZID=America/Phoenix:20260101T000000
DTSTAMP:20260423T150317
CREATED:20251114T171007Z
LAST-MODIFIED:20251114T171007Z
UID:10004075-1767214800-1767225600@gilbertarizonastake.org
SUMMARY:Regional New Year's Eve Dance- Baile Regional
DESCRIPTION:Happy New Year! All youth turning 14 in 2026 – 18 years old are invited to the Regional New Year’s Eve Dance on December 31st from 9 pm – 12 am. Invite your friends! \n¡Feliz año nuevo! Todos los jóvenes que cumplan 14 años en 2026 – 18 años están invitados al Baile de Nochevieja de Regional el 31 de diciembre de 9 p.m. a 12 a.m. ¡Invita a tus amigos! \n  \nShare this:\n				Share on Facebook (Opens in new window)\n				Facebook\n			\n				Share on X (Opens in new window)\n				X\n			\n				Share on LinkedIn (Opens in new window)\n				LinkedIn\n			\n				Share on WhatsApp (Opens in new window)\n				WhatsApp\n			\n				Email a link to a friend (Opens in new window)\n				Email\n			\n				Print (Opens in new window)\n				Print
URL:https://gilbertarizonastake.org/event/regional-new-years-eve-dance-baile-regional/
LOCATION:Gilbert Arizona Superstition Springs Stake\, 555 S. Recker Rd.\, Gilbert\, AZ\, 85296\, United States
CATEGORIES:activity,youth
ATTACH;FMTTYPE=image/jpeg:https://gilbertarizonastake.org/wp-content/uploads/2025/11/IMG_20251114_085257-e1763139917540.jpg
END:VEVENT
END:VCALENDAR