BEGIN:VCALENDAR
VERSION:2.0
PRODID:-//Gilbert Arizona Stake - ECPv6.15.20//NONSGML v1.0//EN
CALSCALE:GREGORIAN
METHOD:PUBLISH
X-ORIGINAL-URL:https://gilbertarizonastake.org
X-WR-CALDESC:Events for Gilbert Arizona Stake
REFRESH-INTERVAL;VALUE=DURATION:PT1H
X-Robots-Tag:noindex
X-PUBLISHED-TTL:PT1H
BEGIN:VTIMEZONE
TZID:America/Phoenix
BEGIN:STANDARD
TZOFFSETFROM:-0700
TZOFFSETTO:-0700
TZNAME:MST
DTSTART:20240101T000000
END:STANDARD
END:VTIMEZONE
BEGIN:VEVENT
DTSTART;TZID=America/Phoenix:20250907T150000
DTEND;TZID=America/Phoenix:20250907T163000
DTSTAMP:20260423T203132
CREATED:20250725T060014Z
LAST-MODIFIED:20250725T060014Z
UID:10003789-1757257200-1757262600@gilbertarizonastake.org
SUMMARY:Emotional Resilience Class for Teens 16+
DESCRIPTION:Share this:\n				Share on Facebook (Opens in new window)\n				Facebook\n			\n				Share on X (Opens in new window)\n				X\n			\n				Share on LinkedIn (Opens in new window)\n				LinkedIn\n			\n				Share on WhatsApp (Opens in new window)\n				WhatsApp\n			\n				Email a link to a friend (Opens in new window)\n				Email\n			\n				Print (Opens in new window)\n				Print
URL:https://gilbertarizonastake.org/event/emotional-resilience-class-for-teens-16-2/2025-09-07/
LOCATION:Gilbert Arizona Stake\, 777 East Elliot Road\, Gilbert\, AZ\, 85234\, United States
CATEGORIES:activity,weekly,youth
ATTACH;FMTTYPE=image/png:https://gilbertarizonastake.org/wp-content/uploads/2025/07/1000017042-e1753422958933.png
END:VEVENT
BEGIN:VEVENT
DTSTART;TZID=America/Phoenix:20250910T170000
DTEND;TZID=America/Phoenix:20250910T180000
DTSTAMP:20260423T203132
CREATED:20250828T185832Z
LAST-MODIFIED:20250828T185833Z
UID:10003818-1757523600-1757527200@gilbertarizonastake.org
SUMMARY:2025 Church Educational System - Youth Livestream
DESCRIPTION:This event for youth\, ages 11–‍18\, includes exciting giveaways and inspiring stories that will help youth see how education and discipleship go hand in hand. \nVirtual event Sept 10\, 2025 \nRegister here: https://one.byu.edu/cesyouth25 \n  \nShare this:\n				Share on Facebook (Opens in new window)\n				Facebook\n			\n				Share on X (Opens in new window)\n				X\n			\n				Share on LinkedIn (Opens in new window)\n				LinkedIn\n			\n				Share on WhatsApp (Opens in new window)\n				WhatsApp\n			\n				Email a link to a friend (Opens in new window)\n				Email\n			\n				Print (Opens in new window)\n				Print
URL:https://gilbertarizonastake.org/event/2025-church-educational-system-youth-livestream/
LOCATION:Gilbert Arizona Stake\, 777 East Elliot Road\, Gilbert\, AZ\, 85234\, United States
CATEGORIES:activity,young adults,youth
ATTACH;FMTTYPE=image/png:https://gilbertarizonastake.org/wp-content/uploads/2025/08/2025_CES_Livestream-Event-e1756407459802.png
END:VEVENT
BEGIN:VEVENT
DTSTART;TZID=America/Phoenix:20250913T200000
DTEND;TZID=America/Phoenix:20250913T223000
DTSTAMP:20260423T203132
CREATED:20250829T182952Z
LAST-MODIFIED:20250829T182952Z
UID:10003821-1757793600-1757802600@gilbertarizonastake.org
SUMMARY:Multistake Youth Dance- Baile Multiestacas
DESCRIPTION:All youth turning 14 in 2025 – 18 years old are invited to the Multi-Stake Dance on September 13th from 8 – 10:30 pm. Invite your friends! \nTodos los jóvenes que cumplan 14 años en 2025 – 18 años están invitados al Baile de Múltiples Estacas el 13 de septiembre de 8 a 10:30 pm. ¡Invita a tus amigos! \n  \nShare this:\n				Share on Facebook (Opens in new window)\n				Facebook\n			\n				Share on X (Opens in new window)\n				X\n			\n				Share on LinkedIn (Opens in new window)\n				LinkedIn\n			\n				Share on WhatsApp (Opens in new window)\n				WhatsApp\n			\n				Email a link to a friend (Opens in new window)\n				Email\n			\n				Print (Opens in new window)\n				Print
URL:https://gilbertarizonastake.org/event/multistake-youth-dance-baile-multiestacas-5/
LOCATION:3025 S. Hawes Mesa\, AZ 85212\, 3025 S. Hawes\, Mesa\, 85212\, United States
CATEGORIES:activity,youth
ATTACH;FMTTYPE=image/png:https://gilbertarizonastake.org/wp-content/uploads/2025/08/1000017727-e1756492165786.png
END:VEVENT
BEGIN:VEVENT
DTSTART;TZID=America/Phoenix:20250914T150000
DTEND;TZID=America/Phoenix:20250914T163000
DTSTAMP:20260423T203132
CREATED:20250725T060014Z
LAST-MODIFIED:20250725T060014Z
UID:10003790-1757862000-1757867400@gilbertarizonastake.org
SUMMARY:Emotional Resilience Class for Teens 16+
DESCRIPTION:Share this:\n				Share on Facebook (Opens in new window)\n				Facebook\n			\n				Share on X (Opens in new window)\n				X\n			\n				Share on LinkedIn (Opens in new window)\n				LinkedIn\n			\n				Share on WhatsApp (Opens in new window)\n				WhatsApp\n			\n				Email a link to a friend (Opens in new window)\n				Email\n			\n				Print (Opens in new window)\n				Print
URL:https://gilbertarizonastake.org/event/emotional-resilience-class-for-teens-16-2/2025-09-14/
LOCATION:Gilbert Arizona Stake\, 777 East Elliot Road\, Gilbert\, AZ\, 85234\, United States
CATEGORIES:activity,weekly,youth
ATTACH;FMTTYPE=image/png:https://gilbertarizonastake.org/wp-content/uploads/2025/07/1000017042-e1753422958933.png
END:VEVENT
BEGIN:VEVENT
DTSTART;TZID=America/Phoenix:20250917T190000
DTEND;TZID=America/Phoenix:20250917T203000
DTSTAMP:20260423T203132
CREATED:20250809T033736Z
LAST-MODIFIED:20250809T033736Z
UID:10003798-1758135600-1758141000@gilbertarizonastake.org
SUMMARY:Strive to Be Festival Youth Concert
DESCRIPTION:Share this:\n				Share on Facebook (Opens in new window)\n				Facebook\n			\n				Share on X (Opens in new window)\n				X\n			\n				Share on LinkedIn (Opens in new window)\n				LinkedIn\n			\n				Share on WhatsApp (Opens in new window)\n				WhatsApp\n			\n				Email a link to a friend (Opens in new window)\n				Email\n			\n				Print (Opens in new window)\n				Print
URL:https://gilbertarizonastake.org/event/strive-to-be-festival-youth-concert/
LOCATION:Gilbert Arizona Stake\, 777 East Elliot Road\, Gilbert\, AZ\, 85234\, United States
CATEGORIES:activity,youth
ATTACH;FMTTYPE=image/jpeg:https://gilbertarizonastake.org/wp-content/uploads/2025/08/5346317864908834494-e1754710635866.jpeg
END:VEVENT
BEGIN:VEVENT
DTSTART;TZID=America/Phoenix:20250921T150000
DTEND;TZID=America/Phoenix:20250921T163000
DTSTAMP:20260423T203132
CREATED:20250725T060014Z
LAST-MODIFIED:20250725T060014Z
UID:10003791-1758466800-1758472200@gilbertarizonastake.org
SUMMARY:Emotional Resilience Class for Teens 16+
DESCRIPTION:Share this:\n				Share on Facebook (Opens in new window)\n				Facebook\n			\n				Share on X (Opens in new window)\n				X\n			\n				Share on LinkedIn (Opens in new window)\n				LinkedIn\n			\n				Share on WhatsApp (Opens in new window)\n				WhatsApp\n			\n				Email a link to a friend (Opens in new window)\n				Email\n			\n				Print (Opens in new window)\n				Print
URL:https://gilbertarizonastake.org/event/emotional-resilience-class-for-teens-16-2/2025-09-21/
LOCATION:Gilbert Arizona Stake\, 777 East Elliot Road\, Gilbert\, AZ\, 85234\, United States
CATEGORIES:activity,weekly,youth
ATTACH;FMTTYPE=image/png:https://gilbertarizonastake.org/wp-content/uploads/2025/07/1000017042-e1753422958933.png
END:VEVENT
BEGIN:VEVENT
DTSTART;TZID=America/Phoenix:20250924T190000
DTEND;TZID=America/Phoenix:20250924T203000
DTSTAMP:20260423T203132
CREATED:20250903T185431Z
LAST-MODIFIED:20250903T185431Z
UID:10003822-1758740400-1758745800@gilbertarizonastake.org
SUMMARY:Stake Youth Activity for youth turning 16+
DESCRIPTION:Share this:\n				Share on Facebook (Opens in new window)\n				Facebook\n			\n				Share on X (Opens in new window)\n				X\n			\n				Share on LinkedIn (Opens in new window)\n				LinkedIn\n			\n				Share on WhatsApp (Opens in new window)\n				WhatsApp\n			\n				Email a link to a friend (Opens in new window)\n				Email\n			\n				Print (Opens in new window)\n				Print
URL:https://gilbertarizonastake.org/event/stake-youth-activity-for-youth-turning-16/
LOCATION:Gilbert Arizona Stake\, 777 East Elliot Road\, Gilbert\, AZ\, 85234\, United States
CATEGORIES:activity,youth
ATTACH;FMTTYPE=image/png:https://gilbertarizonastake.org/wp-content/uploads/2025/09/1000018754-e1756925644290.png
END:VEVENT
BEGIN:VEVENT
DTSTART;TZID=America/Phoenix:20250928T150000
DTEND;TZID=America/Phoenix:20250928T163000
DTSTAMP:20260423T203132
CREATED:20250725T060014Z
LAST-MODIFIED:20250725T060014Z
UID:10003792-1759071600-1759077000@gilbertarizonastake.org
SUMMARY:Emotional Resilience Class for Teens 16+
DESCRIPTION:Share this:\n				Share on Facebook (Opens in new window)\n				Facebook\n			\n				Share on X (Opens in new window)\n				X\n			\n				Share on LinkedIn (Opens in new window)\n				LinkedIn\n			\n				Share on WhatsApp (Opens in new window)\n				WhatsApp\n			\n				Email a link to a friend (Opens in new window)\n				Email\n			\n				Print (Opens in new window)\n				Print
URL:https://gilbertarizonastake.org/event/emotional-resilience-class-for-teens-16-2/2025-09-28/
LOCATION:Gilbert Arizona Stake\, 777 East Elliot Road\, Gilbert\, AZ\, 85234\, United States
CATEGORIES:activity,weekly,youth
ATTACH;FMTTYPE=image/png:https://gilbertarizonastake.org/wp-content/uploads/2025/07/1000017042-e1753422958933.png
END:VEVENT
BEGIN:VEVENT
DTSTART;TZID=America/Phoenix:20250928T180000
DTEND;TZID=America/Phoenix:20250928T200000
DTSTAMP:20260423T203132
CREATED:20250818T002851Z
LAST-MODIFIED:20250818T002851Z
UID:10003800-1759082400-1759089600@gilbertarizonastake.org
SUMMARY:Multistake Event
DESCRIPTION:All adults and youth (14+) are invited to attend. \nShare this:\n				Share on Facebook (Opens in new window)\n				Facebook\n			\n				Share on X (Opens in new window)\n				X\n			\n				Share on LinkedIn (Opens in new window)\n				LinkedIn\n			\n				Share on WhatsApp (Opens in new window)\n				WhatsApp\n			\n				Email a link to a friend (Opens in new window)\n				Email\n			\n				Print (Opens in new window)\n				Print
URL:https://gilbertarizonastake.org/event/multistake-event/
LOCATION:Gilbert Arizona Stake\, 777 East Elliot Road\, Gilbert\, AZ\, 85234\, United States
CATEGORIES:activity,young adults,youth
ATTACH;FMTTYPE=image/png:https://gilbertarizonastake.org/wp-content/uploads/2025/08/IMG_8491-e1755476903439.png
END:VEVENT
END:VCALENDAR