BEGIN:VCALENDAR
VERSION:2.0
PRODID:-//Gilbert Arizona Stake - ECPv6.15.20//NONSGML v1.0//EN
CALSCALE:GREGORIAN
METHOD:PUBLISH
X-ORIGINAL-URL:https://gilbertarizonastake.org
X-WR-CALDESC:Events for Gilbert Arizona Stake
REFRESH-INTERVAL;VALUE=DURATION:PT1H
X-Robots-Tag:noindex
X-PUBLISHED-TTL:PT1H
BEGIN:VTIMEZONE
TZID:America/Phoenix
BEGIN:STANDARD
TZOFFSETFROM:-0700
TZOFFSETTO:-0700
TZNAME:MST
DTSTART:20230101T000000
END:STANDARD
END:VTIMEZONE
BEGIN:VEVENT
DTSTART;TZID=America/Phoenix:20240825T150000
DTEND;TZID=America/Phoenix:20240825T160000
DTSTAMP:20260424T194029
CREATED:20240824T155836Z
LAST-MODIFIED:20240927T201756Z
UID:10002476-1724598000-1724601600@gilbertarizonastake.org
SUMMARY:2024 Youth: Finding Strength in the Lord - Emotional Resilience
DESCRIPTION:Finding Strength in the Lord: Emotional Resilience for Youth will be happening on Sundays starting Aug 8th and going until Sep 29th. \nShare this:\n				Share on Facebook (Opens in new window)\n				Facebook\n			\n				Share on X (Opens in new window)\n				X\n			\n				Share on LinkedIn (Opens in new window)\n				LinkedIn\n			\n				Share on WhatsApp (Opens in new window)\n				WhatsApp\n			\n				Email a link to a friend (Opens in new window)\n				Email\n			\n				Print (Opens in new window)\n				Print
URL:https://gilbertarizonastake.org/event/2024-youth-finding-strength-in-the-lord-emotional-resilience-2/2024-08-25/
LOCATION:Gilbert Arizona Stake\, 777 East Elliot Road\, Gilbert\, AZ\, 85234\, United States
CATEGORIES:self reliance,weekly,youth
ATTACH;FMTTYPE=image/webp:https://gilbertarizonastake.org/wp-content/uploads/2024/06/Finding-strength-in-the-Lord-50919a1011301f93f7e47c291f03a859.webp
END:VEVENT
BEGIN:VEVENT
DTSTART;TZID=America/Phoenix:20240901T150000
DTEND;TZID=America/Phoenix:20240901T160000
DTSTAMP:20260424T194029
CREATED:20240824T155836Z
LAST-MODIFIED:20240927T201756Z
UID:10002477-1725202800-1725206400@gilbertarizonastake.org
SUMMARY:2024 Youth: Finding Strength in the Lord - Emotional Resilience
DESCRIPTION:Finding Strength in the Lord: Emotional Resilience for Youth will be happening on Sundays starting Aug 8th and going until Sep 29th. \nShare this:\n				Share on Facebook (Opens in new window)\n				Facebook\n			\n				Share on X (Opens in new window)\n				X\n			\n				Share on LinkedIn (Opens in new window)\n				LinkedIn\n			\n				Share on WhatsApp (Opens in new window)\n				WhatsApp\n			\n				Email a link to a friend (Opens in new window)\n				Email\n			\n				Print (Opens in new window)\n				Print
URL:https://gilbertarizonastake.org/event/2024-youth-finding-strength-in-the-lord-emotional-resilience-2/2024-09-01/
LOCATION:Gilbert Arizona Stake\, 777 East Elliot Road\, Gilbert\, AZ\, 85234\, United States
CATEGORIES:self reliance,weekly,youth
ATTACH;FMTTYPE=image/webp:https://gilbertarizonastake.org/wp-content/uploads/2024/06/Finding-strength-in-the-Lord-50919a1011301f93f7e47c291f03a859.webp
END:VEVENT
BEGIN:VEVENT
DTSTART;TZID=America/Phoenix:20240908T150000
DTEND;TZID=America/Phoenix:20240908T160000
DTSTAMP:20260424T194029
CREATED:20240824T155836Z
LAST-MODIFIED:20240927T201756Z
UID:10002478-1725807600-1725811200@gilbertarizonastake.org
SUMMARY:2024 Youth: Finding Strength in the Lord - Emotional Resilience
DESCRIPTION:Finding Strength in the Lord: Emotional Resilience for Youth will be happening on Sundays starting Aug 8th and going until Sep 29th. \nShare this:\n				Share on Facebook (Opens in new window)\n				Facebook\n			\n				Share on X (Opens in new window)\n				X\n			\n				Share on LinkedIn (Opens in new window)\n				LinkedIn\n			\n				Share on WhatsApp (Opens in new window)\n				WhatsApp\n			\n				Email a link to a friend (Opens in new window)\n				Email\n			\n				Print (Opens in new window)\n				Print
URL:https://gilbertarizonastake.org/event/2024-youth-finding-strength-in-the-lord-emotional-resilience-2/2024-09-08/
LOCATION:Gilbert Arizona Stake\, 777 East Elliot Road\, Gilbert\, AZ\, 85234\, United States
CATEGORIES:self reliance,weekly,youth
ATTACH;FMTTYPE=image/webp:https://gilbertarizonastake.org/wp-content/uploads/2024/06/Finding-strength-in-the-Lord-50919a1011301f93f7e47c291f03a859.webp
END:VEVENT
BEGIN:VEVENT
DTSTART;TZID=America/Phoenix:20240915T150000
DTEND;TZID=America/Phoenix:20240915T160000
DTSTAMP:20260424T194029
CREATED:20240824T155836Z
LAST-MODIFIED:20240927T201756Z
UID:10002479-1726412400-1726416000@gilbertarizonastake.org
SUMMARY:2024 Youth: Finding Strength in the Lord - Emotional Resilience
DESCRIPTION:Finding Strength in the Lord: Emotional Resilience for Youth will be happening on Sundays starting Aug 8th and going until Sep 29th. \nShare this:\n				Share on Facebook (Opens in new window)\n				Facebook\n			\n				Share on X (Opens in new window)\n				X\n			\n				Share on LinkedIn (Opens in new window)\n				LinkedIn\n			\n				Share on WhatsApp (Opens in new window)\n				WhatsApp\n			\n				Email a link to a friend (Opens in new window)\n				Email\n			\n				Print (Opens in new window)\n				Print
URL:https://gilbertarizonastake.org/event/2024-youth-finding-strength-in-the-lord-emotional-resilience-2/2024-09-15/
LOCATION:Gilbert Arizona Stake\, 777 East Elliot Road\, Gilbert\, AZ\, 85234\, United States
CATEGORIES:self reliance,weekly,youth
ATTACH;FMTTYPE=image/webp:https://gilbertarizonastake.org/wp-content/uploads/2024/06/Finding-strength-in-the-Lord-50919a1011301f93f7e47c291f03a859.webp
END:VEVENT
BEGIN:VEVENT
DTSTART;TZID=America/Phoenix:20240922T150000
DTEND;TZID=America/Phoenix:20240922T160000
DTSTAMP:20260424T194029
CREATED:20240824T155836Z
LAST-MODIFIED:20240927T201756Z
UID:10002480-1727017200-1727020800@gilbertarizonastake.org
SUMMARY:2024 Youth: Finding Strength in the Lord - Emotional Resilience
DESCRIPTION:Finding Strength in the Lord: Emotional Resilience for Youth will be happening on Sundays starting Aug 8th and going until Sep 29th. \nShare this:\n				Share on Facebook (Opens in new window)\n				Facebook\n			\n				Share on X (Opens in new window)\n				X\n			\n				Share on LinkedIn (Opens in new window)\n				LinkedIn\n			\n				Share on WhatsApp (Opens in new window)\n				WhatsApp\n			\n				Email a link to a friend (Opens in new window)\n				Email\n			\n				Print (Opens in new window)\n				Print
URL:https://gilbertarizonastake.org/event/2024-youth-finding-strength-in-the-lord-emotional-resilience-2/2024-09-22/
LOCATION:Gilbert Arizona Stake\, 777 East Elliot Road\, Gilbert\, AZ\, 85234\, United States
CATEGORIES:self reliance,weekly,youth
ATTACH;FMTTYPE=image/webp:https://gilbertarizonastake.org/wp-content/uploads/2024/06/Finding-strength-in-the-Lord-50919a1011301f93f7e47c291f03a859.webp
END:VEVENT
BEGIN:VEVENT
DTSTART;TZID=America/Phoenix:20240929T150000
DTEND;TZID=America/Phoenix:20240929T160000
DTSTAMP:20260424T194029
CREATED:20240824T155836Z
LAST-MODIFIED:20240927T201756Z
UID:10002481-1727622000-1727625600@gilbertarizonastake.org
SUMMARY:2024 Youth: Finding Strength in the Lord - Emotional Resilience
DESCRIPTION:Finding Strength in the Lord: Emotional Resilience for Youth will be happening on Sundays starting Aug 8th and going until Sep 29th. \nShare this:\n				Share on Facebook (Opens in new window)\n				Facebook\n			\n				Share on X (Opens in new window)\n				X\n			\n				Share on LinkedIn (Opens in new window)\n				LinkedIn\n			\n				Share on WhatsApp (Opens in new window)\n				WhatsApp\n			\n				Email a link to a friend (Opens in new window)\n				Email\n			\n				Print (Opens in new window)\n				Print
URL:https://gilbertarizonastake.org/event/2024-youth-finding-strength-in-the-lord-emotional-resilience-2/2024-09-29/
LOCATION:Gilbert Arizona Stake\, 777 East Elliot Road\, Gilbert\, AZ\, 85234\, United States
CATEGORIES:self reliance,weekly,youth
ATTACH;FMTTYPE=image/webp:https://gilbertarizonastake.org/wp-content/uploads/2024/06/Finding-strength-in-the-Lord-50919a1011301f93f7e47c291f03a859.webp
END:VEVENT
END:VCALENDAR