BEGIN:VCALENDAR
VERSION:2.0
PRODID:-//Gilbert Arizona Stake - ECPv6.15.20//NONSGML v1.0//EN
CALSCALE:GREGORIAN
METHOD:PUBLISH
X-WR-CALNAME:Gilbert Arizona Stake
X-ORIGINAL-URL:https://gilbertarizonastake.org
X-WR-CALDESC:Events for Gilbert Arizona Stake
REFRESH-INTERVAL;VALUE=DURATION:PT1H
X-Robots-Tag:noindex
X-PUBLISHED-TTL:PT1H
BEGIN:VTIMEZONE
TZID:America/Phoenix
BEGIN:STANDARD
TZOFFSETFROM:-0700
TZOFFSETTO:-0700
TZNAME:MST
DTSTART:20250101T000000
END:STANDARD
END:VTIMEZONE
BEGIN:VEVENT
DTSTART;TZID=America/Phoenix:20260228T090000
DTEND;TZID=America/Phoenix:20260228T140000
DTSTAMP:20260424T023609
CREATED:20260127T194146Z
LAST-MODIFIED:20260128T004405Z
UID:10004147-1772269200-1772287200@gilbertarizonastake.org
SUMMARY:2026 Feb Preparedness Fair - Feria de preparación para emergencias de febrero
DESCRIPTION:February 28\, 2026 there will be a Preparedness Fair at Barney Park\, 511 E Galveston St\, Gilbert AZ 85295. Hosted by Gilbert Arizona Stake and joined by Greenfield\, Stapley and Val Vista Stakes. Below is a shared website that will have more information and a wealth of information on being prepared. \nWe are excited to announce our stake is partnering with the surrounding stakes in Gilbert for a much larger community fair on Saturday\, February 28\,  2026. We have partnered with the Gilbert Greenfield\, Gilbert Stapley and the Gilbert Val Vista Stakes for this event. This fair is bigger than the other fairs we have held and this time it is at Barney Park\, 511 E. Galveston St.\, Gilbert\, AZ 85295. Galveston is the halfway street between Ray and Williams Field roads. The ball field is west of Lindsay Road. It starts at 9:00 am and goes to 2:00 pm. This is a free event! Bring the whole family. Watch for flyers and invite and bring your neighbors. \nCheck out the website: https://gilbertprepared.org for information on the fair as well as “how to” articles. \nTime to plant \nHow’s your garden coming? February is a good time to start planting seeds. For information on what and when to plant\, visit this University of Arizona website: \nVegetable Planting Calendar for Maricopa County (arizona.edu) \nAnother thing you might want to consider as you plant is what plants compliment other plants. These are referred to as “companion plants.” Check online for more information. \nAs you work on preparedness and food storage\, remember these words from Elder David A. Bednar: “Additional aspects of a spiritual foundation for temporal preparedness include acting ‘in wisdom and order’ [Mosiah 4:27]\, which implies a gradual buildup of food storage and savings over time\, as well as embracing ‘small and simple’ means [Alma 37:6]\, which is a demonstration of faith that the Lord will magnify our small but consistent efforts.” \n— \nEl 28 de febrero de 2026 se llevará a cabo una Feria de Preparación para Emergencias en Barney Park\, ubicado en 511 E Galveston St\, Gilbert\, AZ 85295. El evento está organizado por la Estaca Gilbert Arizona y contará con la participación de las Estacas Greenfield\, Stapley y Val Vista. A continuación\, encontrará un enlace a un sitio web con más información y recursos útiles sobre cómo prepararse. \nNos complace anunciar que nuestra estaca se unirá a las estacas vecinas de Gilbert para una feria comunitaria mucho más grande el sábado 28 de febrero de 2026. Nos hemos asociado con las estacas Gilbert Greenfield\, Gilbert Stapley y Gilbert Val Vista para este evento. Esta feria es más grande que las anteriores y se llevará a cabo en el Parque Barney\, ubicado en 511 E. Galveston St.\, Gilbert\, AZ 85295. La calle Galveston se encuentra a medio camino entre las carreteras Ray y Williams Field. El campo de béisbol está al oeste de la carretera Lindsay. La feria comienza a las 9:00 a. m. y termina a las 2:00 p. m. ¡Es un evento gratuito! Traigan a toda la familia. Estén atentos a los folletos e inviten a sus vecinos. \nVisite el sitio web: https://gilbertprepared.org para obtener información sobre la feria\, así como artículos con instrucciones prácticas. \nEs hora de plantar\n\n¿Cómo va tu jardín? Febrero es un buen momento para empezar a plantar semillas. Para obtener información sobre qué plantar y cuándo\, visita este sitio web de la Universidad de Arizona: \nVegetable Planting Calendar for Maricopa County (arizona.edu)\n\nAnother thing you might want to consider as you plant is what plants compliment other plants. These are referred to as “companion plants.” Check online for more information.\n \nMientras trabajan en la preparación y el almacenamiento de alimentos\, recuerden estas palabras del élder David A. Bednar: “Otros aspectos de una base espiritual para la preparación temporal incluyen actuar ‘con sabiduría y orden’ [Mosíah 4:27]\, lo que implica acumular gradualmente reservas de alimentos y ahorros con el tiempo\, así como valerse de medios ‘pequeños y sencillos’ [Alma 37:6]\, lo cual es una demostración de fe en que el Señor magnificará nuestros pequeños pero constantes esfuerzos”. \nShare this:\n				Share on Facebook (Opens in new window)\n				Facebook\n			\n				Share on X (Opens in new window)\n				X\n			\n				Share on LinkedIn (Opens in new window)\n				LinkedIn\n			\n				Share on WhatsApp (Opens in new window)\n				WhatsApp\n			\n				Email a link to a friend (Opens in new window)\n				Email\n			\n				Print (Opens in new window)\n				Print
URL:https://gilbertarizonastake.org/event/2026-feb-preparedness-fair-feria-de-preparacion-para-emergencias-de-febrero/
LOCATION:Barney Park\, 511 E Galveston St\, Gilbert\, 85295\, United States
CATEGORIES:activity,family,preparedness
ATTACH;FMTTYPE=image/jpeg:https://gilbertarizonastake.org/wp-content/uploads/2026/01/Unknown-1-e1769539071574.jpeg
END:VEVENT
END:VCALENDAR