BEGIN:VCALENDAR
VERSION:2.0
PRODID:-//Gilbert Arizona Stake - ECPv6.15.20//NONSGML v1.0//EN
CALSCALE:GREGORIAN
METHOD:PUBLISH
X-ORIGINAL-URL:https://gilbertarizonastake.org
X-WR-CALDESC:Events for Gilbert Arizona Stake
REFRESH-INTERVAL;VALUE=DURATION:PT1H
X-Robots-Tag:noindex
X-PUBLISHED-TTL:PT1H
BEGIN:VTIMEZONE
TZID:America/Phoenix
BEGIN:STANDARD
TZOFFSETFROM:-0700
TZOFFSETTO:-0700
TZNAME:MST
DTSTART:20240101T000000
END:STANDARD
END:VTIMEZONE
BEGIN:VEVENT
DTSTART;TZID=America/Phoenix:20250322T160000
DTEND;TZID=America/Phoenix:20250322T190000
DTSTAMP:20260419T195444
CREATED:20250311T171804Z
LAST-MODIFIED:20250311T171804Z
UID:10003273-1742659200-1742670000@gilbertarizonastake.org
SUMMARY:Gilbert 11th Ward YW Camp Fundraiser- Taco Night!
DESCRIPTION:Anyone who would like to help the young women of Gilbert 11th Ward raise money for camp is invited to participate in this delicious fundraiser! $15 for 3 tacos and a drink. You can place your order starting on March 15th and pick it up the 22nd or dine in on the day of the event. \nShare this:\n				Share on Facebook (Opens in new window)\n				Facebook\n			\n				Share on X (Opens in new window)\n				X\n			\n				Share on LinkedIn (Opens in new window)\n				LinkedIn\n			\n				Share on WhatsApp (Opens in new window)\n				WhatsApp\n			\n				Email a link to a friend (Opens in new window)\n				Email\n			\n				Print (Opens in new window)\n				Print
URL:https://gilbertarizonastake.org/event/gilbert-11th-ward-yw-camp-fundraiser-taco-night/
LOCATION:Gilbert Arizona Stake\, 777 East Elliot Road\, Gilbert\, AZ\, 85234\, United States
CATEGORIES:activity,family
ATTACH;FMTTYPE=image/png:https://gilbertarizonastake.org/wp-content/uploads/2025/03/Gilbert-11th-YW-Camp-Fundraiser-e1742252862607.png
END:VEVENT
END:VCALENDAR