BEGIN:VCALENDAR
VERSION:2.0
PRODID:-//Gilbert Arizona Stake - ECPv6.15.20//NONSGML v1.0//EN
CALSCALE:GREGORIAN
METHOD:PUBLISH
X-WR-CALNAME:Gilbert Arizona Stake
X-ORIGINAL-URL:https://gilbertarizonastake.org
X-WR-CALDESC:Events for Gilbert Arizona Stake
REFRESH-INTERVAL;VALUE=DURATION:PT1H
X-Robots-Tag:noindex
X-PUBLISHED-TTL:PT1H
BEGIN:VTIMEZONE
TZID:America/Phoenix
BEGIN:STANDARD
TZOFFSETFROM:-0700
TZOFFSETTO:-0700
TZNAME:MST
DTSTART:20240101T000000
END:STANDARD
END:VTIMEZONE
BEGIN:VEVENT
DTSTART;TZID=America/Phoenix:20250712T100000
DTEND;TZID=America/Phoenix:20250712T130000
DTSTAMP:20260424T143147
CREATED:20250118T193536Z
LAST-MODIFIED:20250630T151539Z
UID:10003221-1752314400-1752325200@gilbertarizonastake.org
SUMMARY:2025 July Stake Baptisms - Bautismos de Estaca
DESCRIPTION:Stake baptisms. Meeting held in the Gilbert Arizona Stake Center Chapel. All are welcome. Three sessions will be held this month at 9:00 am to 10:00 am\,  10 am to 11am and 12:00 am to 1:00 pm. See Baptism for more information. \nBautismos de estaca. Reunión celebrada en la Capilla del Centro de Estaca Gilbert Arizona. Todos son bienvenidos. Este mes se realizarán tres sesiones: 9:00 am a 10:00 am\, 10 am a 11:00 am y 11:00 am a 12:00 pm. Bautismo para más información. \nShare this:\n				Share on Facebook (Opens in new window)\n				Facebook\n			\n				Share on X (Opens in new window)\n				X\n			\n				Share on LinkedIn (Opens in new window)\n				LinkedIn\n			\n				Share on WhatsApp (Opens in new window)\n				WhatsApp\n			\n				Email a link to a friend (Opens in new window)\n				Email\n			\n				Print (Opens in new window)\n				Print
URL:https://gilbertarizonastake.org/event/2025-july-stake-baptisms-bautismos-de-estaca/
LOCATION:Gilbert Arizona Stake\, 777 East Elliot Road\, Gilbert\, AZ\, 85234\, United States
CATEGORIES:activity,children,family
ATTACH;FMTTYPE=image/jpeg:https://gilbertarizonastake.org/wp-content/uploads/2025/06/stake-baptisms-June-e1751295397660.jpg
END:VEVENT
BEGIN:VEVENT
DTSTART;TZID=America/Phoenix:20250721T183000
DTEND;TZID=America/Phoenix:20250721T220000
DTSTAMP:20260424T143147
CREATED:20250708T212012Z
LAST-MODIFIED:20250708T212603Z
UID:10003702-1753122600-1753135200@gilbertarizonastake.org
SUMMARY:2025 July Family Night at Chase Field
DESCRIPTION:We’re excited to invite you to\nFamily Night at Chase Field with the Arizona Diamondbacks! \nMonday\, July 21 at 6:40 PM \nat Chase Field in Phoenix \nEnjoy a fun-filled evening cheering on the D-backs together with members of the Seville Stake and friends. \nTO PURCHASE TICKETS: click here. \nThe National Anthem\nwill be performed by members of The Church of Jesus Christ of Latter-day Saints and friends from across the valley. All are invited (age 13+) to sing in the choir. \nMust attend choir practice:\nJuly 20\, 6:00-7:00 PM (age 13+) \nHeld at Seville Stake Center\n7631 S. Constellation Way\, Gilbert\, AZ 85298 \nChoir Questions?\nText Angela Rucker 480-206-1186 \nThe First Pitch\nwill be thrown by Elder Johnathan S. Schmitt\, a General Authority Seventy of the Church of Jesus Christ of Latter-day Saints. \nWe look forward to seeing you there! \nShare this:\n				Share on Facebook (Opens in new window)\n				Facebook\n			\n				Share on X (Opens in new window)\n				X\n			\n				Share on LinkedIn (Opens in new window)\n				LinkedIn\n			\n				Share on WhatsApp (Opens in new window)\n				WhatsApp\n			\n				Email a link to a friend (Opens in new window)\n				Email\n			\n				Print (Opens in new window)\n				Print
URL:https://gilbertarizonastake.org/event/2025-july-family-night-at-chase-field/
LOCATION:Chase Field\, 401 E. Jefferson Street\, Phoenix\, AZ\, 85004\, United States
CATEGORIES:activity,family
ATTACH;FMTTYPE=image/jpeg:https://gilbertarizonastake.org/wp-content/uploads/2025/07/dback-game-e1752009563326.jpg
END:VEVENT
END:VCALENDAR