BEGIN:VCALENDAR
VERSION:2.0
PRODID:-//Gilbert Arizona Stake - ECPv6.15.20//NONSGML v1.0//EN
CALSCALE:GREGORIAN
METHOD:PUBLISH
X-ORIGINAL-URL:https://gilbertarizonastake.org
X-WR-CALDESC:Events for Gilbert Arizona Stake
REFRESH-INTERVAL;VALUE=DURATION:PT1H
X-Robots-Tag:noindex
X-PUBLISHED-TTL:PT1H
BEGIN:VTIMEZONE
TZID:America/Phoenix
BEGIN:STANDARD
TZOFFSETFROM:-0700
TZOFFSETTO:-0700
TZNAME:MST
DTSTART:20250101T000000
END:STANDARD
END:VTIMEZONE
BEGIN:VEVENT
DTSTART;TZID=America/Phoenix:20260531T100000
DTEND;TZID=America/Phoenix:20260531T110000
DTSTAMP:20260422T024431
CREATED:20260421T035158Z
LAST-MODIFIED:20260421T035158Z
UID:10004933-1780221600-1780225200@gilbertarizonastake.org
SUMMARY:2026 Stake Temple Recommend Interviews : May 31st - Entrevistas recomendadas para el Templo: 31 de Mayo
DESCRIPTION:Stake Temple Recommend Interviews on Sunday\, May 31st from 10-11 am and 12-1 pm.  Meet and register in the lobby of the stake office (northwest side entrance of the stake center). \n– \nLas entrevistas de Stake Temple Recommend son el domingo 31 de Mayo de 10 a. m. a 11 a. m. a 12 p. m. a 13 p. m. Reúnase e inscríbase en el vestíbulo de la oficina de estaca (entrada del lado noroeste del edificio de estaca). \nShare this:\n				Share on Facebook (Opens in new window)\n				Facebook\n			\n				Share on X (Opens in new window)\n				X\n			\n				Share on LinkedIn (Opens in new window)\n				LinkedIn\n			\n				Share on WhatsApp (Opens in new window)\n				WhatsApp\n			\n				Email a link to a friend (Opens in new window)\n				Email\n			\n				Print (Opens in new window)\n				Print
URL:https://gilbertarizonastake.org/event/2026-stake-temple-recommend-interviews-may-31st-entrevistas-recomendadas-para-el-templo-31-de-mayo/2026-05-31/1/
LOCATION:Gilbert Arizona Stake\, 777 East Elliot Road\, Gilbert\, AZ\, 85234\, United States
CATEGORIES:temple
ATTACH;FMTTYPE=image/png:https://gilbertarizonastake.org/wp-content/uploads/2026/04/May-31-Gilbert-Stake-Temple-Rec--e1776732144572.png
END:VEVENT
BEGIN:VEVENT
DTSTART;TZID=America/Phoenix:20260531T120000
DTEND;TZID=America/Phoenix:20260531T130000
DTSTAMP:20260422T024431
CREATED:20260421T035158Z
LAST-MODIFIED:20260421T035158Z
UID:10004934-1780228800-1780232400@gilbertarizonastake.org
SUMMARY:2026 Stake Temple Recommend Interviews : May 31st - Entrevistas recomendadas para el Templo: 31 de Mayo
DESCRIPTION:Stake Temple Recommend Interviews on Sunday\, May 31st from 10-11 am and 12-1 pm.  Meet and register in the lobby of the stake office (northwest side entrance of the stake center). \n– \nLas entrevistas de Stake Temple Recommend son el domingo 31 de Mayo de 10 a. m. a 11 a. m. a 12 p. m. a 13 p. m. Reúnase e inscríbase en el vestíbulo de la oficina de estaca (entrada del lado noroeste del edificio de estaca). \nShare this:\n				Share on Facebook (Opens in new window)\n				Facebook\n			\n				Share on X (Opens in new window)\n				X\n			\n				Share on LinkedIn (Opens in new window)\n				LinkedIn\n			\n				Share on WhatsApp (Opens in new window)\n				WhatsApp\n			\n				Email a link to a friend (Opens in new window)\n				Email\n			\n				Print (Opens in new window)\n				Print
URL:https://gilbertarizonastake.org/event/2026-stake-temple-recommend-interviews-may-31st-entrevistas-recomendadas-para-el-templo-31-de-mayo/2026-05-31/2/
LOCATION:Gilbert Arizona Stake\, 777 East Elliot Road\, Gilbert\, AZ\, 85234\, United States
CATEGORIES:temple
ATTACH;FMTTYPE=image/png:https://gilbertarizonastake.org/wp-content/uploads/2026/04/May-31-Gilbert-Stake-Temple-Rec--e1776732144572.png
END:VEVENT
BEGIN:VEVENT
DTSTART;TZID=America/Phoenix:20260531T160000
DTEND;TZID=America/Phoenix:20260531T171500
DTSTAMP:20260422T024431
CREATED:20260421T033649Z
LAST-MODIFIED:20260421T041612Z
UID:10004930-1780243200-1780247700@gilbertarizonastake.org
SUMMARY:2026 Gilbert Stake Choir - Coro de la Estaca Gilbert
DESCRIPTION:Gilbert Stake Choir \nJoin the Gilbert Stake Choir as we prepare to sing at Stake Conference.  Practices will be held from 4:00-5:15 pm at the Stake Center chapel on May 3\, May 17\, and May 31.  Adults and youth 12 years old and up are encouraged to participate. \n– \nCoro de la Estaca Gilbert  \nÚnase al Coro de la Estaca Gilbert mientras nos preparamos para cantar en la Conferencia de Estaca. Los ensayos se llevarán a cabo de 4:00 a 5:15 p. m. en la capilla del Centro de Estaca los días 3\, 17 y 31 de mayo. Se invita a participar a adultos y jóvenes de 12 años en adelante. \nShare this:\n				Share on Facebook (Opens in new window)\n				Facebook\n			\n				Share on X (Opens in new window)\n				X\n			\n				Share on LinkedIn (Opens in new window)\n				LinkedIn\n			\n				Share on WhatsApp (Opens in new window)\n				WhatsApp\n			\n				Email a link to a friend (Opens in new window)\n				Email\n			\n				Print (Opens in new window)\n				Print
URL:https://gilbertarizonastake.org/event/gilbert-stake-choir-coro-de-la-estaca-gilbert/2026-05-31/
LOCATION:Gilbert Arizona Stake\, 777 East Elliot Road\, Gilbert\, AZ\, 85234\, United States
CATEGORIES:family,youth
ATTACH;FMTTYPE=image/jpeg:https://gilbertarizonastake.org/wp-content/uploads/2026/04/stake-choir-practice-e1776732231827.jpg
END:VEVENT
END:VCALENDAR