BEGIN:VCALENDAR
VERSION:2.0
PRODID:-//Gilbert Arizona Stake - ECPv6.15.20//NONSGML v1.0//EN
CALSCALE:GREGORIAN
METHOD:PUBLISH
X-ORIGINAL-URL:https://gilbertarizonastake.org
X-WR-CALDESC:Events for Gilbert Arizona Stake
REFRESH-INTERVAL;VALUE=DURATION:PT1H
X-Robots-Tag:noindex
X-PUBLISHED-TTL:PT1H
BEGIN:VTIMEZONE
TZID:America/Phoenix
BEGIN:STANDARD
TZOFFSETFROM:-0700
TZOFFSETTO:-0700
TZNAME:MST
DTSTART:20250101T000000
END:STANDARD
END:VTIMEZONE
BEGIN:VEVENT
DTSTART;TZID=America/Phoenix:20260510T090000
DTEND;TZID=America/Phoenix:20260510T230000
DTSTAMP:20260422T024456
CREATED:20260421T183927Z
LAST-MODIFIED:20260421T183927Z
UID:10004938-1778403600-1778454000@gilbertarizonastake.org
SUMMARY:2026 May Gilbert Stake Baptisms - Bautismos de la Estaca Gilbert mayo
DESCRIPTION:Gilbert Stake Baptisms are Saturday May 9th and the Gilbert Stake Center. Wards are: 9am Palo Verde and 10am Mesquite. \n– \nLos bautismos de la Estaca Gilbert se llevarán a cabo el sábado 9 de mayo en el Centro de Estaca de Gilbert. Los horarios por barrio son: 9:00 a. m. Palo Verde y 10:00 a. m. Mesquite. \nShare this:\n				Share on Facebook (Opens in new window)\n				Facebook\n			\n				Share on X (Opens in new window)\n				X\n			\n				Share on LinkedIn (Opens in new window)\n				LinkedIn\n			\n				Share on WhatsApp (Opens in new window)\n				WhatsApp\n			\n				Email a link to a friend (Opens in new window)\n				Email\n			\n				Print (Opens in new window)\n				Print
URL:https://gilbertarizonastake.org/event/2026-may-gilbert-stake-baptisms-bautismos-de-la-estaca-gilbert-mayo/
LOCATION:Gilbert Arizona Stake\, 777 East Elliot Road\, Gilbert\, AZ\, 85234\, United States
CATEGORIES:activity,children,family
ATTACH;FMTTYPE=image/png:https://gilbertarizonastake.org/wp-content/uploads/2026/04/2025MayBaptisms-e1776795966709.png
END:VEVENT
END:VCALENDAR