BEGIN:VCALENDAR
VERSION:2.0
PRODID:-//Gilbert Arizona Stake - ECPv6.15.20//NONSGML v1.0//EN
CALSCALE:GREGORIAN
METHOD:PUBLISH
X-ORIGINAL-URL:https://gilbertarizonastake.org
X-WR-CALDESC:Events for Gilbert Arizona Stake
REFRESH-INTERVAL;VALUE=DURATION:PT1H
X-Robots-Tag:noindex
X-PUBLISHED-TTL:PT1H
BEGIN:VTIMEZONE
TZID:America/Phoenix
BEGIN:STANDARD
TZOFFSETFROM:-0700
TZOFFSETTO:-0700
TZNAME:MST
DTSTART:20250101T000000
END:STANDARD
END:VTIMEZONE
BEGIN:VEVENT
DTSTART;VALUE=DATE:20260503
DTEND;VALUE=DATE:20260504
DTSTAMP:20260422T024545
CREATED:20260421T032635Z
LAST-MODIFIED:20260421T041707Z
UID:10004926-1777766400-1777852799@gilbertarizonastake.org
SUMMARY:2026 Worldwide Devotional for Young Adults - Devocional Mundial para Jóvenes Adultos
DESCRIPTION:Worldwide Devotional for Young Adults \nJoin young adults from around the world for a devotional broadcast. Elder Gary E. Stevenson and his wife\, Sister Lesa Stevenson will share a message about lifelong discipleship.  The devotional will be available live and on demand starting on May 3\, 2026. \n– \nDevocional Mundial para Jóvenes Adultos \nÚnete a jóvenes adultos de todo el mundo para una transmisión devocional. El élder Gary E. Stevenson y su esposa\, la hermana Lesa Stevenson\, compartirán un mensaje sobre el discipulado a lo largo de la vida. El devocional estará disponible en vivo y bajo demanda a partir del 3 de mayo de 2026. \n\n\n\n\n\n\n\nWorldwide Devotional Viewing Link \n\n\n\n\n\n\n\n\n\n\n\n\n\n\n\n\n\n\n\n\nShare this:\n				Share on Facebook (Opens in new window)\n				Facebook\n			\n				Share on X (Opens in new window)\n				X\n			\n				Share on LinkedIn (Opens in new window)\n				LinkedIn\n			\n				Share on WhatsApp (Opens in new window)\n				WhatsApp\n			\n				Email a link to a friend (Opens in new window)\n				Email\n			\n				Print (Opens in new window)\n				Print
URL:https://gilbertarizonastake.org/event/worldwide-devotional-for-young-adults-devocional-mundial-para-jovenes-adultos-3/
LOCATION:
CATEGORIES:young adults
ATTACH;FMTTYPE=image/png:https://gilbertarizonastake.org/wp-content/uploads/2026/04/May-Worldwide-Devotional-e1776732182235.png
END:VEVENT
BEGIN:VEVENT
DTSTART;TZID=America/Phoenix:20260503T160000
DTEND;TZID=America/Phoenix:20260503T171500
DTSTAMP:20260422T024545
CREATED:20260421T033649Z
LAST-MODIFIED:20260421T041612Z
UID:10004928-1777824000-1777828500@gilbertarizonastake.org
SUMMARY:2026 Gilbert Stake Choir - Coro de la Estaca Gilbert
DESCRIPTION:Gilbert Stake Choir \nJoin the Gilbert Stake Choir as we prepare to sing at Stake Conference.  Practices will be held from 4:00-5:15 pm at the Stake Center chapel on May 3\, May 17\, and May 31.  Adults and youth 12 years old and up are encouraged to participate. \n– \nCoro de la Estaca Gilbert  \nÚnase al Coro de la Estaca Gilbert mientras nos preparamos para cantar en la Conferencia de Estaca. Los ensayos se llevarán a cabo de 4:00 a 5:15 p. m. en la capilla del Centro de Estaca los días 3\, 17 y 31 de mayo. Se invita a participar a adultos y jóvenes de 12 años en adelante. \nShare this:\n				Share on Facebook (Opens in new window)\n				Facebook\n			\n				Share on X (Opens in new window)\n				X\n			\n				Share on LinkedIn (Opens in new window)\n				LinkedIn\n			\n				Share on WhatsApp (Opens in new window)\n				WhatsApp\n			\n				Email a link to a friend (Opens in new window)\n				Email\n			\n				Print (Opens in new window)\n				Print
URL:https://gilbertarizonastake.org/event/gilbert-stake-choir-coro-de-la-estaca-gilbert/2026-05-03/
LOCATION:Gilbert Arizona Stake\, 777 East Elliot Road\, Gilbert\, AZ\, 85234\, United States
CATEGORIES:family,youth
ATTACH;FMTTYPE=image/jpeg:https://gilbertarizonastake.org/wp-content/uploads/2026/04/stake-choir-practice-e1776732231827.jpg
END:VEVENT
BEGIN:VEVENT
DTSTART;TZID=America/Phoenix:20260503T173000
DTEND;TZID=America/Phoenix:20260503T203000
DTSTAMP:20260422T024545
CREATED:20260421T010355Z
LAST-MODIFIED:20260421T010355Z
UID:10004925-1777829400-1777840200@gilbertarizonastake.org
SUMMARY:36+ Single Adult Potluck & Fireside - Comida compartida y charla informal para adultos solteros mayores de 36 años
DESCRIPTION:36+ Single Adult Potluck & Fireside \nThe Gilbert Stake invites all single adults ages 36 and over to attend a potluck and fireside on May 3\, 2026 at the chapel next to the Gilbert Temple.  Come hear guest speaker\, Brickman Allen’s powerful message of faith\, resilience\, and trust in God. Bring a dish to share and invite a friend.  Potluck at 5:30 p.m. Fireside at 7:00 p.m. \n– \nComida compartida y charla informal para adultos solteros mayores de 36 años \nLa Estaca Gilbert invita a todos los adultos solteros mayores de 36 años a una comida compartida y charla informal el 3 de mayo de 2026 en la capilla junto al Templo de Gilbert. Vengan a escuchar el poderoso mensaje de fe\, resiliencia y confianza en Dios del orador invitado\, Brickman Allen. Traigan un plato para compartir e inviten a un amigo. La comida compartida comienza a las 5:30 p.m. y la charla informal a las 7:00 p.m. \n\n\n\n\n\n\n\n\n\n\n\n\n\n\n\n\n  \n\n\n\n\n\n\n\n\n\n\n\n\n\n\n\n\n\n  \n\n\n\n\n\n\n\n\n\n\n\n\n\n\n\n\n\n\n\n\n\n\n\n\nShare this:\n				Share on Facebook (Opens in new window)\n				Facebook\n			\n				Share on X (Opens in new window)\n				X\n			\n				Share on LinkedIn (Opens in new window)\n				LinkedIn\n			\n				Share on WhatsApp (Opens in new window)\n				WhatsApp\n			\n				Email a link to a friend (Opens in new window)\n				Email\n			\n				Print (Opens in new window)\n				Print
URL:https://gilbertarizonastake.org/event/36-single-adult-potluck-fireside-comida-compartida-y-charla-informal-para-adultos-solteros-mayores-de-36-anos/
LOCATION:Gilbert Temple Stake Center\, 3307 S. Greenfield Rd.\, Gilbert\, 85297\, United States
CATEGORIES:activity,single adult
ATTACH;FMTTYPE=image/png:https://gilbertarizonastake.org/wp-content/uploads/2026/04/Single-Adult-Fireside-May-3-e1776732201868.png
END:VEVENT
END:VCALENDAR