BEGIN:VCALENDAR
VERSION:2.0
PRODID:-//Gilbert Arizona Stake - ECPv6.15.20//NONSGML v1.0//EN
CALSCALE:GREGORIAN
METHOD:PUBLISH
X-ORIGINAL-URL:https://gilbertarizonastake.org
X-WR-CALDESC:Events for Gilbert Arizona Stake
REFRESH-INTERVAL;VALUE=DURATION:PT1H
X-Robots-Tag:noindex
X-PUBLISHED-TTL:PT1H
BEGIN:VTIMEZONE
TZID:America/Phoenix
BEGIN:STANDARD
TZOFFSETFROM:-0700
TZOFFSETTO:-0700
TZNAME:MST
DTSTART:20250101T000000
END:STANDARD
END:VTIMEZONE
BEGIN:VEVENT
DTSTART;TZID=America/Phoenix:20260117T170000
DTEND;TZID=America/Phoenix:20260117T180000
DTSTAMP:20260420T111630
CREATED:20251221T012109Z
LAST-MODIFIED:20251221T012109Z
UID:10004121-1768669200-1768672800@gilbertarizonastake.org
SUMMARY:2026 January Gilbert AZ Stake Conference - Leadership Session
DESCRIPTION:Members who serve in the following callings are invited to attend this Leadership Session of Stake Conference: \nStake presidency \nHigh council \nStake and ward clerks and assistant clerks \nStake and ward executive secretaries \nStake Young Men presidency \nBishoprics \nElders quorum presidencies and secretaries \nAaronic Priesthood quorum advisers \n  \nShare this:\n				Share on Facebook (Opens in new window)\n				Facebook\n			\n				Share on X (Opens in new window)\n				X\n			\n				Share on LinkedIn (Opens in new window)\n				LinkedIn\n			\n				Share on WhatsApp (Opens in new window)\n				WhatsApp\n			\n				Email a link to a friend (Opens in new window)\n				Email\n			\n				Print (Opens in new window)\n				Print
URL:https://gilbertarizonastake.org/event/2026-january-gilbert-az-stake-conference-leadership-session/
LOCATION:Gilbert Arizona Stake\, 777 East Elliot Road\, Gilbert\, AZ\, 85234\, United States
CATEGORIES:activity
ATTACH;FMTTYPE=image/png:https://gilbertarizonastake.org/wp-content/uploads/2025/12/IMG_20251219_142853-e1766279693476.png
END:VEVENT
BEGIN:VEVENT
DTSTART;TZID=America/Phoenix:20260117T190000
DTEND;TZID=America/Phoenix:20260117T203000
DTSTAMP:20260420T111630
CREATED:20251221T012341Z
LAST-MODIFIED:20251221T012341Z
UID:10004122-1768676400-1768681800@gilbertarizonastake.org
SUMMARY:2026 January Gilbert AZ Stake Conference – Adult Session
DESCRIPTION:All adults in the Gilbert AZ Stake are invited to attend this Saturday evening session of Stake Conference. \nShare this:\n				Share on Facebook (Opens in new window)\n				Facebook\n			\n				Share on X (Opens in new window)\n				X\n			\n				Share on LinkedIn (Opens in new window)\n				LinkedIn\n			\n				Share on WhatsApp (Opens in new window)\n				WhatsApp\n			\n				Email a link to a friend (Opens in new window)\n				Email\n			\n				Print (Opens in new window)\n				Print
URL:https://gilbertarizonastake.org/event/2026-january-gilbert-az-stake-conference-adult-session/
LOCATION:Gilbert Arizona Stake\, 777 East Elliot Road\, Gilbert\, AZ\, 85234\, United States
CATEGORIES:activity
ATTACH;FMTTYPE=image/png:https://gilbertarizonastake.org/wp-content/uploads/2025/12/IMG_20251219_142853-e1766279693476.png
END:VEVENT
END:VCALENDAR