BEGIN:VCALENDAR
VERSION:2.0
PRODID:-//Gilbert Arizona Stake - ECPv6.15.20//NONSGML v1.0//EN
CALSCALE:GREGORIAN
METHOD:PUBLISH
X-WR-CALNAME:Gilbert Arizona Stake
X-ORIGINAL-URL:https://gilbertarizonastake.org
X-WR-CALDESC:Events for Gilbert Arizona Stake
REFRESH-INTERVAL;VALUE=DURATION:PT1H
X-Robots-Tag:noindex
X-PUBLISHED-TTL:PT1H
BEGIN:VTIMEZONE
TZID:America/Phoenix
BEGIN:STANDARD
TZOFFSETFROM:-0700
TZOFFSETTO:-0700
TZNAME:MST
DTSTART:20240101T000000
END:STANDARD
END:VTIMEZONE
BEGIN:VEVENT
DTSTART;TZID=America/Phoenix:20250510T073000
DTEND;TZID=America/Phoenix:20250510T083000
DTSTAMP:20260425T123243
CREATED:20241212T005745Z
LAST-MODIFIED:20241212T005745Z
UID:10003101-1746862200-1746865800@gilbertarizonastake.org
SUMMARY:Gilbert Gateway - Spouse & Family Support - Pornography Addiction - Women Only (Sat AM)
DESCRIPTION:If you have a spouse/family struggling with pornography addiction\, you may feel as though no one else is going through a struggle like yours. However\, many people have loved ones struggling pornography use. Other group participants will relate to your experience and will help you feel connected\, understood\, and accepted. You can discover support and hope by attending a free community recovery support group meeting. Recovery support groups are sponsored by The Church of Jesus Christ of Latter-day Saints. \nWomen Only are invited\, held weekly Saturday 7:30am-8:30am. \nTo find other groups click here: Find a group  \nShare this:\n				Share on Facebook (Opens in new window)\n				Facebook\n			\n				Share on X (Opens in new window)\n				X\n			\n				Share on LinkedIn (Opens in new window)\n				LinkedIn\n			\n				Share on WhatsApp (Opens in new window)\n				WhatsApp\n			\n				Email a link to a friend (Opens in new window)\n				Email\n			\n				Print (Opens in new window)\n				Print
URL:https://gilbertarizonastake.org/event/spouse-family-support-women-only-pornography-2/2025-05-10/
LOCATION:Frye/Recker Building\, 2958 S Recker Rd\, Gilbert\, 85296
CATEGORIES:addiction,weekly
ATTACH;FMTTYPE=image/png:https://gilbertarizonastake.org/wp-content/uploads/2023/03/Screenshot-2023-03-09-at-2.30.21-PM.png
END:VEVENT
BEGIN:VEVENT
DTSTART;TZID=America/Phoenix:20250510T090000
DTEND;TZID=America/Phoenix:20250510T130000
DTSTAMP:20260425T123243
CREATED:20250423T213322Z
LAST-MODIFIED:20250429T220327Z
UID:10003672-1746867600-1746882000@gilbertarizonastake.org
SUMMARY:Stake Baptisms - Bautismos de Estaca
DESCRIPTION:Stake baptisms are held in the Gilbert Arizona Stake Center. All are welcome. Each ward will have their own session time: \n9 am Gilbert 11th\n10 am Palo Verde\n11 am Silver Creek/Cullumber\n12 pm Val Vista \nSee Baptism for more information. \nLos bautismos de estaca se llevan a cabo en el Centro de estaca Gilbert\, Arizona. Todos son bienvenidos. Cada barrio tendrá su propio horario de sesión: \n9 am Gilbert 11th\n10 am Palo Verde\n11 am Silver Creek/Cullumber\n12 pm Val Vista \n Bautismo para más información. \nShare this:\n				Share on Facebook (Opens in new window)\n				Facebook\n			\n				Share on X (Opens in new window)\n				X\n			\n				Share on LinkedIn (Opens in new window)\n				LinkedIn\n			\n				Share on WhatsApp (Opens in new window)\n				WhatsApp\n			\n				Email a link to a friend (Opens in new window)\n				Email\n			\n				Print (Opens in new window)\n				Print
URL:https://gilbertarizonastake.org/event/stake-baptisms-bautismos-de-estaca-5/
LOCATION:Gilbert Arizona Stake\, 777 East Elliot Road\, Gilbert\, AZ\, 85234\, United States
CATEGORIES:activity,children,family
ATTACH;FMTTYPE=image/png:https://gilbertarizonastake.org/wp-content/uploads/2025/04/stake-baptisms-May-updated-e1747265475942.png
END:VEVENT
BEGIN:VEVENT
DTSTART;TZID=America/Phoenix:20250510T200000
DTEND;TZID=America/Phoenix:20250510T223000
DTSTAMP:20260425T123243
CREATED:20250422T160921Z
LAST-MODIFIED:20250422T160921Z
UID:10003660-1746907200-1746916200@gilbertarizonastake.org
SUMMARY:Multistake Youth Dance- Baile Multiestacas
DESCRIPTION:All youth turning 14 in 2025 – 18 years old are invited to the Multi-Stake Dance on May 10th from 8 – 10:30 pm. Invite your friends! \nTodos los jóvenes que cumplan 14 años en 2025 – 18 años están invitados al Baile de Múltiples Estacas el 10 de mayo de 8 a 10:30 pm. ¡Invita a tus amigos! \n  \nShare this:\n				Share on Facebook (Opens in new window)\n				Facebook\n			\n				Share on X (Opens in new window)\n				X\n			\n				Share on LinkedIn (Opens in new window)\n				LinkedIn\n			\n				Share on WhatsApp (Opens in new window)\n				WhatsApp\n			\n				Email a link to a friend (Opens in new window)\n				Email\n			\n				Print (Opens in new window)\n				Print
URL:https://gilbertarizonastake.org/event/multistake-youth-dance-baile-multiestacas-3/
LOCATION:3025 S. Hawes Mesa\, AZ 85212\, 3025 S. Hawes\, Mesa\, 85212\, United States
CATEGORIES:activity,youth
ATTACH;FMTTYPE=image/jpeg:https://gilbertarizonastake.org/wp-content/uploads/2025/04/IMG_20250422_085832-e1745375491638.jpg
END:VEVENT
END:VCALENDAR