BEGIN:VCALENDAR
VERSION:2.0
PRODID:-//Gilbert Arizona Stake - ECPv6.15.20//NONSGML v1.0//EN
CALSCALE:GREGORIAN
METHOD:PUBLISH
X-ORIGINAL-URL:https://gilbertarizonastake.org
X-WR-CALDESC:Events for Gilbert Arizona Stake
REFRESH-INTERVAL;VALUE=DURATION:PT1H
X-Robots-Tag:noindex
X-PUBLISHED-TTL:PT1H
BEGIN:VTIMEZONE
TZID:America/Phoenix
BEGIN:STANDARD
TZOFFSETFROM:-0700
TZOFFSETTO:-0700
TZNAME:MST
DTSTART:20230101T000000
END:STANDARD
END:VTIMEZONE
BEGIN:VEVENT
DTSTART;TZID=America/Phoenix:20241013T100000
DTEND;TZID=America/Phoenix:20241013T110000
DTSTAMP:20260419T061101
CREATED:20240712T230104Z
LAST-MODIFIED:20240712T230104Z
UID:10002511-1728813600-1728817200@gilbertarizonastake.org
SUMMARY:2024 October Stake Temple Recommend Interviews -  Entrevistas
DESCRIPTION:Stake Temple Recommend interviews are October 13th at 10am-11am & 12pm-1pm and October 27th at 10am-11am & 12pm-1pm. Meet and sign up in Stake Office Foyer (Northwest side entrance of Stake building). \nLas entrevistas de Stake Temple Recommend son el 13 de octubre de 10 a.m. a 11 a.m. y 12 p.m. a 1 p.m.  y el 27 de octubre  de 10 a.m. a 11 a.m. y 12 p.m. a 1 p.m. Reúnase e inscríbase en el vestíbulo de la oficina de estaca (entrada del lado noroeste del edificio de estaca). \nShare this:\n				Share on Facebook (Opens in new window)\n				Facebook\n			\n				Share on X (Opens in new window)\n				X\n			\n				Share on LinkedIn (Opens in new window)\n				LinkedIn\n			\n				Share on WhatsApp (Opens in new window)\n				WhatsApp\n			\n				Email a link to a friend (Opens in new window)\n				Email\n			\n				Print (Opens in new window)\n				Print
URL:https://gilbertarizonastake.org/event/2024-october-stake-temple-recommend-interviews-entrevistas/2024-10-13/1/
LOCATION:Gilbert Arizona Stake\, 777 East Elliot Road\, Gilbert\, AZ\, 85234\, United States
CATEGORIES:activity
ATTACH;FMTTYPE=image/jpeg:https://gilbertarizonastake.org/wp-content/uploads/2024/02/Temple-Recommend_Oct19-b27c08134a778a00382fb23bcf9b0b56-e1737577132542.jpg
END:VEVENT
BEGIN:VEVENT
DTSTART;TZID=America/Phoenix:20241013T120000
DTEND;TZID=America/Phoenix:20241013T130000
DTSTAMP:20260419T061101
CREATED:20240712T230104Z
LAST-MODIFIED:20240712T230104Z
UID:10002512-1728820800-1728824400@gilbertarizonastake.org
SUMMARY:2024 October Stake Temple Recommend Interviews -  Entrevistas
DESCRIPTION:Stake Temple Recommend interviews are October 13th at 10am-11am & 12pm-1pm and October 27th at 10am-11am & 12pm-1pm. Meet and sign up in Stake Office Foyer (Northwest side entrance of Stake building). \nLas entrevistas de Stake Temple Recommend son el 13 de octubre de 10 a.m. a 11 a.m. y 12 p.m. a 1 p.m.  y el 27 de octubre  de 10 a.m. a 11 a.m. y 12 p.m. a 1 p.m. Reúnase e inscríbase en el vestíbulo de la oficina de estaca (entrada del lado noroeste del edificio de estaca). \nShare this:\n				Share on Facebook (Opens in new window)\n				Facebook\n			\n				Share on X (Opens in new window)\n				X\n			\n				Share on LinkedIn (Opens in new window)\n				LinkedIn\n			\n				Share on WhatsApp (Opens in new window)\n				WhatsApp\n			\n				Email a link to a friend (Opens in new window)\n				Email\n			\n				Print (Opens in new window)\n				Print
URL:https://gilbertarizonastake.org/event/2024-october-stake-temple-recommend-interviews-entrevistas/2024-10-13/2/
LOCATION:Gilbert Arizona Stake\, 777 East Elliot Road\, Gilbert\, AZ\, 85234\, United States
CATEGORIES:activity
ATTACH;FMTTYPE=image/jpeg:https://gilbertarizonastake.org/wp-content/uploads/2024/02/Temple-Recommend_Oct19-b27c08134a778a00382fb23bcf9b0b56-e1737577132542.jpg
END:VEVENT
BEGIN:VEVENT
DTSTART;TZID=America/Phoenix:20241013T150000
DTEND;TZID=America/Phoenix:20241013T160000
DTSTAMP:20260419T061101
CREATED:20240927T201512Z
LAST-MODIFIED:20240927T201512Z
UID:10002664-1728831600-1728835200@gilbertarizonastake.org
SUMMARY:2024 Missionary Preparation Class
DESCRIPTION:Mission Prep class meets every Sunday at 3pm at the Gilbert Arizona Stake Center. \nShare this:\n				Share on Facebook (Opens in new window)\n				Facebook\n			\n				Share on X (Opens in new window)\n				X\n			\n				Share on LinkedIn (Opens in new window)\n				LinkedIn\n			\n				Share on WhatsApp (Opens in new window)\n				WhatsApp\n			\n				Email a link to a friend (Opens in new window)\n				Email\n			\n				Print (Opens in new window)\n				Print
URL:https://gilbertarizonastake.org/event/2024-missionary-preparation-class/2024-10-13/
LOCATION:Gilbert Arizona Stake\, 777 East Elliot Road\, Gilbert\, AZ\, 85234\, United States
CATEGORIES:activity,weekly,youth
ATTACH;FMTTYPE=image/jpeg:https://gilbertarizonastake.org/wp-content/uploads/2024/06/PreachMyGospel.jpg
END:VEVENT
BEGIN:VEVENT
DTSTART;TZID=America/Phoenix:20241013T183000
DTEND;TZID=America/Phoenix:20241013T193000
DTSTAMP:20260419T061101
CREATED:20230602T232032Z
LAST-MODIFIED:20230602T233558Z
UID:10000767-1728844200-1728847800@gilbertarizonastake.org
SUMMARY:Mesa Olive Ward - Español - Adicciones en general - Hombres y mujeres (Domingo 18:30 MST)
DESCRIPTION:Si está luchando contra una adicción o un comportamiento problemático\, puede sentirse atrapado y temer que nunca será libre. Puede encontrar apoyo y esperanza asistiendo a una reunión gratuita del grupo de apoyo de recuperación de la comunidad. \nLos grupos de apoyo para la recuperación patrocinados por la Iglesia de Jesucristo de los Santos de los Últimos Días pueden ayudar a cualquiera que esté luchando contra una adicción o un comportamiento compulsivo. Las reuniones de grupos de apoyo usan una versión adaptada de los Doce Pasos de Alcohólicos Anónimos que enseña principios de recuperación de adicciones desde una perspectiva del evangelio. \nHombres y mujeres invitados\, mayores de 18 años\, se lleva a cabo semanalmente los domingos de 6:30 p. m. a 7:30 p. m. Salón de la Sociedad de Socorro \nBuscar otro grupo local \nShare this:\n				Share on Facebook (Opens in new window)\n				Facebook\n			\n				Share on X (Opens in new window)\n				X\n			\n				Share on LinkedIn (Opens in new window)\n				LinkedIn\n			\n				Share on WhatsApp (Opens in new window)\n				WhatsApp\n			\n				Email a link to a friend (Opens in new window)\n				Email\n			\n				Print (Opens in new window)\n				Print
URL:https://gilbertarizonastake.org/event/mesa-olive-ward-spanish-adicciones-en-general-hombres-y-mujeres-domingo-1830-mst/2024-10-13/
LOCATION:Olive Ward (Mesa Arizona Stake)\, 525 E 2nd Ave\, Mesa\, AZ\, 85204\, United States
CATEGORIES:addiction,weekly
ATTACH;FMTTYPE=image/png:https://gilbertarizonastake.org/wp-content/uploads/2023/06/adicciones.png
END:VEVENT
END:VCALENDAR